FILENAME: O4511231.SWS.789973.tif
QUADRANGLE_NAME: OLD BALDY MOUNTAIN
QUADRANT: SW
WEST_LONGITUDE: -112 15 0.00000
EAST_LONGITUDE: -112 11 15.00000
NORTH_LATITUDE: 45 33 45.00000
SOUTH_LATITUDE: 45 30 0.00000
PRODUCTION_DATE: 1997 11 17
RASTER_ORDER: LEFT_RIGHT/TOP_BOTTOM
BAND_ORGANIZATION: SINGLE FILE
BAND_CONTENT: BLACK&WHITE
BAND_CONTENT: UNDEFINED
BAND_CONTENT: UNDEFINED
BITS_PER_PIXEL: 8
SAMPLES_AND_LINES: 5650 7625
HORIZONTAL_DATUM: NAD83
HORIZONTAL_COORDINATE_SYSTEM: UTM
COORDINATE_ZONE: 12
HORIZONTAL_UNITS: METERS
HORIZONTAL_RESOLUTION: 1.00000
SECONDARY_HORIZONTAL_DATUM: NAD27
XY_ORIGIN: 401977.25400 5046499.46000
SECONDARY_XY_ORIGIN: 402039.21600 5046289.02800
NATION: US
STATE: MT
NW_QUAD_CORNER_XY: 402449.74500 5046199.96000
NE_QUAD_CORNER_XY: 407327.24400 5046125.87000
SE_QUAD_CORNERY_XY: 407224.53000 5039182.28900
SW_QUAD_CORNER_XY: 402341.62300 5039256.38200
SECONDARY_NW_QUAD_XY: 402446.83000 5045982.32600
SECONDARY_NE_QUAD_XY: 407324.47500 5045908.23400
SECONDARY_SE_QUAD_XY: 407221.76100 5038964.70100
SECONDARY_SW_QUAD_XY: 402338.70800 5039038.79600
RMSE_XY: 2.80000
IMAGE_SOURCE: BLACK AND WHITE FILM
SOURCE_IMAGE_ID: NAPP 9484 162
SOURCE_IMAGE_DATE: 1995 8 14
SOURCE_DEM_DATE: 1997 11 17
AGENCY: WESTERN MAPPING CENTER (WMC)
PRODUCER: NIES MAPPING GROUP
PRODUCTION_SYSTEM: INTERGRAPH- ISPM,ISIR
COMPRESSION: UNDEFINED
STANDARD_VERSION: 1996 12
METADATA_DATE: 1998 2 5
DATA_FILE_SIZE: 43086900
BYTE_COUNT: 5650
