FILENAME: O4511230.SES.790395.tif
QUADRANGLE_NAME: TWIN BRIDGES
QUADRANT: SE
WEST_LONGITUDE: -112 18 45.00000
EAST_LONGITUDE: -112 15 0.00000
NORTH_LATITUDE: 45 33 45.00000
SOUTH_LATITUDE: 45 30 0.00000
PRODUCTION_DATE: 1997 11 14
RASTER_ORDER: LEFT_RIGHT/TOP_BOTTOM
BAND_ORGANIZATION: SINGLE FILE
BAND_CONTENT: BLACK&WHITE
BAND_CONTENT: UNDEFINED
BAND_CONTENT: UNDEFINED
BITS_PER_PIXEL: 8
SAMPLES_AND_LINES: 5656 7629
HORIZONTAL_DATUM: NAD83
HORIZONTAL_COORDINATE_SYSTEM: UTM
COORDINATE_ZONE: 12
HORIZONTAL_UNITS: METERS
HORIZONTAL_RESOLUTION: 1.00000
SECONDARY_HORIZONTAL_DATUM: NAD27
XY_ORIGIN: 397094.04900 5046577.35100
SECONDARY_XY_ORIGIN: 397156.17700 5046366.87800
NATION: US
STATE: MT
NW_QUAD_CORNER_XY: 397572.24700 5046277.85100
NE_QUAD_CORNER_XY: 402449.74500 5046199.96000
SE_QUAD_CORNERY_XY: 402341.62300 5039256.38200
SW_QUAD_CORNER_XY: 397458.71700 5039334.27600
SECONDARY_NW_QUAD_XY: 397569.18600 5046060.22000
SECONDARY_NE_QUAD_XY: 402446.83000 5045982.32600
SECONDARY_SE_QUAD_XY: 402338.70800 5039038.79600
SECONDARY_SW_QUAD_XY: 397455.65700 5039116.69300
RMSE_XY: 1.30000
IMAGE_SOURCE: BLACK AND WHITE FILM
SOURCE_IMAGE_ID: NAPP 9484 107
SOURCE_IMAGE_DATE: 1995 8 14
SOURCE_DEM_DATE: 1997 11 14
AGENCY: WESTERN MAPPING CENTER (WMC)
PRODUCER: NIES MAPPING GROUP
PRODUCTION_SYSTEM: INTERGRAPH- ISPM,ISIR
COMPRESSION: UNDEFINED
STANDARD_VERSION: 1996 12
METADATA_DATE: 1998 2 10
DATA_FILE_SIZE: 43155280
BYTE_COUNT: 5656
