FILENAME: O4511229.NWS.790383.tif
QUADRANGLE_NAME: TWIN BRIDGES SW
QUADRANT: NW
WEST_LONGITUDE: -112 30 0.00000
EAST_LONGITUDE: -112 26 15.00000
NORTH_LATITUDE: 45 37 30.00000
SOUTH_LATITUDE: 45 33 45.00000
PRODUCTION_DATE: 1997 11 14
RASTER_ORDER: LEFT_RIGHT/TOP_BOTTOM
BAND_ORGANIZATION: SINGLE FILE
BAND_CONTENT: BLACK&WHITE
BAND_CONTENT: UNDEFINED
BAND_CONTENT: UNDEFINED
BITS_PER_PIXEL: 8
SAMPLES_AND_LINES: 5668 7640
HORIZONTAL_DATUM: NAD83
HORIZONTAL_COORDINATE_SYSTEM: UTM
COORDINATE_ZONE: 12
HORIZONTAL_UNITS: METERS
HORIZONTAL_RESOLUTION: 1.00000
SECONDARY_HORIZONTAL_DATUM: NAD27
XY_ORIGIN: 382574.15800 5053777.46800
SECONDARY_XY_ORIGIN: 382636.82500 5053566.78600
NATION: US
STATE: MT
NW_QUAD_CORNER_XY: 383069.66400 5053477.96800
NE_QUAD_CORNER_XY: 387941.74000 5053388.67700
SE_QUAD_CORNERY_XY: 387817.25900 5046445.03600
SW_QUAD_CORNER_XY: 382939.76800 5046534.33100
SECONDARY_NW_QUAD_XY: 383066.16500 5053260.29600
SECONDARY_NE_QUAD_XY: 387938.38700 5053171.00300
SECONDARY_SE_QUAD_XY: 387813.90600 5046227.41000
SECONDARY_SW_QUAD_XY: 382936.27000 5046316.70700
RMSE_XY: 2.20000
IMAGE_SOURCE: BLACK AND WHITE FILM
SOURCE_IMAGE_ID: NAPP 8382 183
SOURCE_IMAGE_DATE: 1995 8 1
SOURCE_DEM_DATE: 1997 11 14
AGENCY: WESTERN MAPPING CENTER (WMC)
PRODUCER: NIES MAPPING GROUP
PRODUCTION_SYSTEM: INTERGRAPH- ISPM,ISIR
COMPRESSION: UNDEFINED
STANDARD_VERSION: 1996 12
METADATA_DATE: 1998 2 10
DATA_FILE_SIZE: 43309188
BYTE_COUNT: 5668
