FILENAME: O4511229.SWS.790388.tif
QUADRANGLE_NAME: TWIN BRIDGES SW
QUADRANT: SW
WEST_LONGITUDE: -112 30 0.00000
EAST_LONGITUDE: -112 26 15.00000
NORTH_LATITUDE: 45 33 45.00000
SOUTH_LATITUDE: 45 30 0.00000
PRODUCTION_DATE: 1997 11 14
RASTER_ORDER: LEFT_RIGHT/TOP_BOTTOM
BAND_ORGANIZATION: SINGLE FILE
BAND_CONTENT: BLACK&WHITE
BAND_CONTENT: UNDEFINED
BAND_CONTENT: UNDEFINED
BITS_PER_PIXEL: 8
SAMPLES_AND_LINES: 5673 7640
HORIZONTAL_DATUM: NAD83
HORIZONTAL_COORDINATE_SYSTEM: UTM
COORDINATE_ZONE: 12
HORIZONTAL_UNITS: METERS
HORIZONTAL_RESOLUTION: 1.00000
SECONDARY_HORIZONTAL_DATUM: NAD27
XY_ORIGIN: 382444.44500 5046833.83100
SECONDARY_XY_ORIGIN: 382507.07200 5046623.22700
NATION: US
STATE: MT
NW_QUAD_CORNER_XY: 382939.76800 5046534.33100
NE_QUAD_CORNER_XY: 387817.25900 5046445.03600
SE_QUAD_CORNERY_XY: 387692.91200 5039501.46700
SW_QUAD_CORNER_XY: 382810.01300 5039590.76500
SECONDARY_NW_QUAD_XY: 382936.27000 5046316.70700
SECONDARY_NE_QUAD_XY: 387813.90600 5046227.41000
SECONDARY_SE_QUAD_XY: 387689.56000 5039283.88900
SECONDARY_SW_QUAD_XY: 382806.51500 5039373.19000
RMSE_XY: 2.70000
IMAGE_SOURCE: BLACK AND WHITE FILM
SOURCE_IMAGE_ID: NAPP 8382 185
SOURCE_IMAGE_DATE: 1995 8 1
SOURCE_DEM_DATE: 1997 11 14
AGENCY: WESTERN MAPPING CENTER (WMC)
PRODUCER: NIES MAPPING GROUP
PRODUCTION_SYSTEM: INTERGRAPH- ISPM,ISIR
COMPRESSION: UNDEFINED
STANDARD_VERSION: 1996 12
METADATA_DATE: 1998 2 10
DATA_FILE_SIZE: 43347393
BYTE_COUNT: 5673
