FILENAME: O4511228.NWS.788782.tif
QUADRANGLE_NAME: NEZ PERCE HOLLOW
QUADRANT: NW
WEST_LONGITUDE: -112 37 30.00000
EAST_LONGITUDE: -112 33 45.00000
NORTH_LATITUDE: 45 37 30.00000
SOUTH_LATITUDE: 45 33 45.00000
PRODUCTION_DATE: 1997 11 25
RASTER_ORDER: LEFT_RIGHT/TOP_BOTTOM
BAND_ORGANIZATION: SINGLE FILE
BAND_CONTENT: BLACK&WHITE
BAND_CONTENT: UNDEFINED
BAND_CONTENT: UNDEFINED
BITS_PER_PIXEL: 8
SAMPLES_AND_LINES: 5680 7647
HORIZONTAL_DATUM: NAD83
HORIZONTAL_COORDINATE_SYSTEM: UTM
COORDINATE_ZONE: 12
HORIZONTAL_UNITS: METERS
HORIZONTAL_RESOLUTION: 1.00000
SECONDARY_HORIZONTAL_DATUM: NAD27
XY_ORIGIN: 372818.58300 5053967.45300
SECONDARY_XY_ORIGIN: 372881.52700 5053756.63100
NATION: US
STATE: MT
NW_QUAD_CORNER_XY: 373325.52000 5053667.95300
NE_QUAD_CORNER_XY: 378197.59000 5053571.06000
SE_QUAD_CORNERY_XY: 378062.28000 5046627.42700
SW_QUAD_CORNER_XY: 373184.79500 5046724.32400
SECONDARY_NW_QUAD_XY: 373321.73000 5053450.28800
SECONDARY_NE_QUAD_XY: 378193.94600 5053353.39100
SECONDARY_SE_QUAD_XY: 378058.63600 5046409.80600
SECONDARY_SW_QUAD_XY: 373181.00500 5046506.70600
RMSE_XY: 2.30000
IMAGE_SOURCE: BLACK AND WHITE FILM
SOURCE_IMAGE_ID: NAPP 8382 92
SOURCE_IMAGE_DATE: 1995 8 1
SOURCE_DEM_DATE: 1997 11 25
AGENCY: WESTERN MAPPING CENTER (WMC)
PRODUCER: NIES MAPPING GROUP
PRODUCTION_SYSTEM: INTERGRAPH-ISIR
COMPRESSION: UNDEFINED
STANDARD_VERSION: 1996 12
METADATA_DATE: 1998 2 11
DATA_FILE_SIZE: 43440640
BYTE_COUNT: 5680
