FILENAME: O4511228.SWS.788788.tif
QUADRANGLE_NAME: NEZ PERCE HOLLOW
QUADRANT: SW
WEST_LONGITUDE: -112 37 30.00000
EAST_LONGITUDE: -112 33 45.00000
NORTH_LATITUDE: 45 33 45.00000
SOUTH_LATITUDE: 45 30 0.00000
PRODUCTION_DATE: 1997 11 25
RASTER_ORDER: LEFT_RIGHT/TOP_BOTTOM
BAND_ORGANIZATION: SINGLE FILE
BAND_CONTENT: BLACK&WHITE
BAND_CONTENT: UNDEFINED
BAND_CONTENT: UNDEFINED
BITS_PER_PIXEL: 8
SAMPLES_AND_LINES: 5685 7647
HORIZONTAL_DATUM: NAD83
HORIZONTAL_COORDINATE_SYSTEM: UTM
COORDINATE_ZONE: 12
HORIZONTAL_UNITS: METERS
HORIZONTAL_RESOLUTION: 1.00000
SECONDARY_HORIZONTAL_DATUM: NAD27
XY_ORIGIN: 372678.01900 5047023.82400
SECONDARY_XY_ORIGIN: 372740.95500 5046813.05000
NATION: US
STATE: MT
NW_QUAD_CORNER_XY: 373184.79500 5046724.32400
NE_QUAD_CORNER_XY: 378062.28000 5046627.42700
SE_QUAD_CORNERY_XY: 377927.11500 5039683.86500
SW_QUAD_CORNER_XY: 373044.22100 5039780.76600
SECONDARY_NW_QUAD_XY: 373181.00500 5046506.70600
SECONDARY_NE_QUAD_XY: 378058.63600 5046409.80600
SECONDARY_SE_QUAD_XY: 377923.47300 5039466.29200
SECONDARY_SW_QUAD_XY: 373040.43200 5039563.19600
RMSE_XY: 3.20000
IMAGE_SOURCE: BLACK AND WHITE FILM
SOURCE_IMAGE_ID: NAPP 8382 94
SOURCE_IMAGE_DATE: 1995 8 1
SOURCE_DEM_DATE: 1997 11 25
AGENCY: WESTERN MAPPING CENTER (WMC)
PRODUCER: NIES MAPPING GROUP
PRODUCTION_SYSTEM: INTERGRAPH-ISIR
COMPRESSION: UNDEFINED
STANDARD_VERSION: 1996 12
METADATA_DATE: 1998 2 11
DATA_FILE_SIZE: 43478880
BYTE_COUNT: 5685
