FILENAME: O4511226.NWS.788754.tif
QUADRANGLE_NAME: STORM PEAK
QUADRANT: NW
WEST_LONGITUDE: -112 52 30.00000
EAST_LONGITUDE: -112 48 45.00000
NORTH_LATITUDE: 45 37 30.00000
SOUTH_LATITUDE: 45 33 45.00000
PRODUCTION_DATE: 1997 11 25
RASTER_ORDER: LEFT_RIGHT/TOP_BOTTOM
BAND_ORGANIZATION: SINGLE FILE
BAND_CONTENT: BLACK&WHITE
BAND_CONTENT: UNDEFINED
BAND_CONTENT: UNDEFINED
BITS_PER_PIXEL: 8
SAMPLES_AND_LINES: 5702 7662
HORIZONTAL_DATUM: NAD83
HORIZONTAL_COORDINATE_SYSTEM: UTM
COORDINATE_ZONE: 12
HORIZONTAL_UNITS: METERS
HORIZONTAL_RESOLUTION: 1.00000
SECONDARY_HORIZONTAL_DATUM: NAD27
XY_ORIGIN: 353307.66500 5054393.04800
SECONDARY_XY_ORIGIN: 353370.97500 5054182.03900
NATION: US
STATE: MT
NW_QUAD_CORNER_XY: 353837.27200 5054093.54800
NE_QUAD_CORNER_XY: 358709.32900 5053981.44500
SE_QUAD_CORNERY_XY: 358552.35500 5047037.83000
SW_QUAD_CORNER_XY: 353674.88200 5047149.93700
SECONDARY_NW_QUAD_XY: 353832.89800 5053875.89500
SECONDARY_NE_QUAD_XY: 358705.10100 5053763.78900
SECONDARY_SE_QUAD_XY: 358548.12900 5046820.22100
SECONDARY_SW_QUAD_XY: 353670.50900 5046932.33100
RMSE_XY: 3.90000
IMAGE_SOURCE: BLACK AND WHITE FILM
SOURCE_IMAGE_ID: NAPP 9485 204
SOURCE_IMAGE_DATE: 1995 8 20
SOURCE_DEM_DATE: 1997 11 25
AGENCY: WESTERN MAPPING CENTER (WMC)
PRODUCER: NIES MAPPING GROUP
PRODUCTION_SYSTEM: INTERGRAPH-ISIR
COMPRESSION: UNDEFINED
STANDARD_VERSION: 1996 12
METADATA_DATE: 1998 2 11
DATA_FILE_SIZE: 43694426
BYTE_COUNT: 5702
