FILENAME: O4511226.SES.788755.tif
QUADRANGLE_NAME: STORM PEAK
QUADRANT: SE
WEST_LONGITUDE: -112 48 45.00000
EAST_LONGITUDE: -112 45 0.00000
NORTH_LATITUDE: 45 33 45.00000
SOUTH_LATITUDE: 45 30 0.00000
PRODUCTION_DATE: 1997 11 25
RASTER_ORDER: LEFT_RIGHT/TOP_BOTTOM
BAND_ORGANIZATION: SINGLE FILE
BAND_CONTENT: BLACK&WHITE
BAND_CONTENT: UNDEFINED
BAND_CONTENT: UNDEFINED
BITS_PER_PIXEL: 8
SAMPLES_AND_LINES: 5702 7659
HORIZONTAL_DATUM: NAD83
HORIZONTAL_COORDINATE_SYSTEM: UTM
COORDINATE_ZONE: 12
HORIZONTAL_UNITS: METERS
HORIZONTAL_RESOLUTION: 1.00000
SECONDARY_HORIZONTAL_DATUM: NAD27
XY_ORIGIN: 358028.50800 5047337.33000
SECONDARY_XY_ORIGIN: 358091.80000 5047126.37900
NATION: US
STATE: MT
NW_QUAD_CORNER_XY: 358552.35500 5047037.83000
NE_QUAD_CORNER_XY: 363429.83200 5046929.52600
SE_QUAD_CORNERY_XY: 363278.43900 5039985.97500
SW_QUAD_CORNER_XY: 358395.55200 5040094.28300
SECONDARY_NW_QUAD_XY: 358548.12900 5046820.22100
SECONDARY_NE_QUAD_XY: 363425.75100 5046711.91400
SECONDARY_SE_QUAD_XY: 363274.35800 5039768.41100
SECONDARY_SW_QUAD_XY: 358391.32600 5039876.72300
RMSE_XY: 2.80000
IMAGE_SOURCE: BLACK AND WHITE FILM
SOURCE_IMAGE_ID: NAPP 9483 127
SOURCE_IMAGE_DATE: 1995 8 14
SOURCE_DEM_DATE: 1997 11 25
AGENCY: WESTERN MAPPING CENTER (WMC)
PRODUCER: NIES MAPPING GROUP
PRODUCTION_SYSTEM: INTERGRAPH-ISIR
COMPRESSION: UNDEFINED
STANDARD_VERSION: 1996 12
METADATA_DATE: 1998 2 11
DATA_FILE_SIZE: 43677320
BYTE_COUNT: 5702
