FILENAME: O4511223.NWS.790148.tif
QUADRANGLE_NAME: WATERLOO
QUADRANT: NW
WEST_LONGITUDE: -112 15 0.00000
EAST_LONGITUDE: -112 11 15.00000
NORTH_LATITUDE: 45 45 0.00000
SOUTH_LATITUDE: 45 41 15.00000
PRODUCTION_DATE: 1997 11 25
RASTER_ORDER: LEFT_RIGHT/TOP_BOTTOM
BAND_ORGANIZATION: SINGLE FILE
BAND_CONTENT: BLACK&WHITE
BAND_CONTENT: UNDEFINED
BAND_CONTENT: UNDEFINED
BITS_PER_PIXEL: 8
SAMPLES_AND_LINES: 5635 7625
HORIZONTAL_DATUM: NAD83
HORIZONTAL_COORDINATE_SYSTEM: UTM
COORDINATE_ZONE: 12
HORIZONTAL_UNITS: METERS
HORIZONTAL_RESOLUTION: 1.00000
SECONDARY_HORIZONTAL_DATUM: NAD27
XY_ORIGIN: 402301.98700 5067330.63100
SECONDARY_XY_ORIGIN: 402363.93600 5067120.02300
NATION: US
STATE: MT
NW_QUAD_CORNER_XY: 402774.81200 5067031.13100
NE_QUAD_CORNER_XY: 407636.05300 5066957.05100
SE_QUAD_CORNERY_XY: 407533.00600 5060013.25100
SW_QUAD_CORNER_XY: 402666.33900 5060087.33500
SECONDARY_NW_QUAD_XY: 402771.89500 5066813.35700
SECONDARY_NE_QUAD_XY: 407633.28200 5066739.27500
SECONDARY_SE_QUAD_XY: 407530.23600 5059795.52100
SECONDARY_SW_QUAD_XY: 402663.42300 5059869.60700
RMSE_XY: 1.40000
IMAGE_SOURCE: BLACK AND WHITE FILM
SOURCE_IMAGE_ID: NAPP 9484 156
SOURCE_IMAGE_DATE: 1995 8 14
SOURCE_DEM_DATE: 1997 11 25
AGENCY: WESTERN MAPPING CENTER (WMC)
PRODUCER: NIES MAPPING GROUP
PRODUCTION_SYSTEM: INTERGRAPH-ISIR
COMPRESSION: UNDEFINED
STANDARD_VERSION: 1996 12
METADATA_DATE: 1998 2 9
DATA_FILE_SIZE: 42972510
BYTE_COUNT: 5635
