FILENAME: O4511223.SES.790150.tif
QUADRANGLE_NAME: WATERLOO
QUADRANT: SE
WEST_LONGITUDE: -112 11 15.00000
EAST_LONGITUDE: -112 7 30.00000
NORTH_LATITUDE: 45 41 15.00000
SOUTH_LATITUDE: 45 37 30.00000
PRODUCTION_DATE: 1997 11 25
RASTER_ORDER: LEFT_RIGHT/TOP_BOTTOM
BAND_ORGANIZATION: SINGLE FILE
BAND_CONTENT: BLACK&WHITE
BAND_CONTENT: UNDEFINED
BAND_CONTENT: UNDEFINED
BITS_PER_PIXEL: 8
SAMPLES_AND_LINES: 5634 7621
HORIZONTAL_DATUM: NAD83
HORIZONTAL_COORDINATE_SYSTEM: UTM
COORDINATE_ZONE: 12
HORIZONTAL_UNITS: METERS
HORIZONTAL_RESOLUTION: 1.00000
SECONDARY_HORIZONTAL_DATUM: NAD27
XY_ORIGIN: 407065.92100 5060312.75100
SECONDARY_XY_ORIGIN: 407127.79600 5060102.25200
NATION: US
STATE: MT
NW_QUAD_CORNER_XY: 407533.00600 5060013.25100
NE_QUAD_CORNER_XY: 412399.67600 5059942.96700
SE_QUAD_CORNERY_XY: 412302.15800 5052999.23700
SW_QUAD_CORNER_XY: 407430.07000 5053069.52400
SECONDARY_NW_QUAD_XY: 407530.23600 5059795.52100
SECONDARY_NE_QUAD_XY: 412397.05100 5059725.23500
SECONDARY_SE_QUAD_XY: 412299.53400 5052781.55100
SECONDARY_SW_QUAD_XY: 407427.30000 5052851.84000
RMSE_XY: 2.30000
IMAGE_SOURCE: BLACK AND WHITE FILM
SOURCE_IMAGE_ID: NAPP 9484 233
SOURCE_IMAGE_DATE: 1995 8 14
SOURCE_DEM_DATE: 1997 11 25
AGENCY: WESTERN MAPPING CENTER (WMC)
PRODUCER: NIES MAPPING GROUP
PRODUCTION_SYSTEM: INTERGRAPH-ISIR
COMPRESSION: UNDEFINED
STANDARD_VERSION: 1996 12
METADATA_DATE: 1998 2 9
DATA_FILE_SIZE: 42942348
BYTE_COUNT: 5634
