FILENAME: O4511223.SWS.790152.tif
QUADRANGLE_NAME: WATERLOO
QUADRANT: SW
WEST_LONGITUDE: -112 15 0.00000
EAST_LONGITUDE: -112 11 15.00000
NORTH_LATITUDE: 45 41 15.00000
SOUTH_LATITUDE: 45 37 30.00000
PRODUCTION_DATE: 1997 11 25
RASTER_ORDER: LEFT_RIGHT/TOP_BOTTOM
BAND_ORGANIZATION: SINGLE FILE
BAND_CONTENT: BLACK&WHITE
BAND_CONTENT: UNDEFINED
BAND_CONTENT: UNDEFINED
BITS_PER_PIXEL: 8
SAMPLES_AND_LINES: 5640 7625
HORIZONTAL_DATUM: NAD83
HORIZONTAL_COORDINATE_SYSTEM: UTM
COORDINATE_ZONE: 12
HORIZONTAL_UNITS: METERS
HORIZONTAL_RESOLUTION: 1.00000
SECONDARY_HORIZONTAL_DATUM: NAD27
XY_ORIGIN: 402193.62600 5060386.83500
SECONDARY_XY_ORIGIN: 402255.57800 5060176.28500
NATION: US
STATE: MT
NW_QUAD_CORNER_XY: 402666.33900 5060087.33500
NE_QUAD_CORNER_XY: 407533.00600 5060013.25100
SE_QUAD_CORNERY_XY: 407430.07000 5053069.52400
SW_QUAD_CORNER_XY: 402557.98400 5053143.61100
SECONDARY_NW_QUAD_XY: 402663.42300 5059869.60700
SECONDARY_NE_QUAD_XY: 407530.23600 5059795.52100
SECONDARY_SE_QUAD_XY: 407427.30000 5052851.84000
SECONDARY_SW_QUAD_XY: 402555.06800 5052925.93000
RMSE_XY: 0.90000
IMAGE_SOURCE: BLACK AND WHITE FILM
SOURCE_IMAGE_ID: NAPP 9484 158
SOURCE_IMAGE_DATE: 1995 8 14
SOURCE_DEM_DATE: 1997 11 25
AGENCY: WESTERN MAPPING CENTER (WMC)
PRODUCER: NIES MAPPING GROUP
PRODUCTION_SYSTEM: INTERGRAPH-ISIR
COMPRESSION: UNDEFINED
STANDARD_VERSION: 1996 12
METADATA_DATE: 1998 2 9
DATA_FILE_SIZE: 43010640
BYTE_COUNT: 5640
