FILENAME: O4511221.NES.788253.tif
QUADRANGLE_NAME: TABLE MOUNTAIN
QUADRANT: NE
WEST_LONGITUDE: -112 26 15.00000
EAST_LONGITUDE: -112 22 30.00000
NORTH_LATITUDE: 45 45 0.00000
SOUTH_LATITUDE: 45 41 15.00000
PRODUCTION_DATE: 1997 12 1
RASTER_ORDER: LEFT_RIGHT/TOP_BOTTOM
BAND_ORGANIZATION: SINGLE FILE
BAND_CONTENT: BLACK&WHITE
BAND_CONTENT: UNDEFINED
BAND_CONTENT: UNDEFINED
BITS_PER_PIXEL: 8
SAMPLES_AND_LINES: 5652 7636
HORIZONTAL_DATUM: NAD83
HORIZONTAL_COORDINATE_SYSTEM: UTM
COORDINATE_ZONE: 12
HORIZONTAL_UNITS: METERS
HORIZONTAL_RESOLUTION: 1.00000
SECONDARY_HORIZONTAL_DATUM: NAD27
XY_ORIGIN: 387700.99600 5067575.67300
SECONDARY_XY_ORIGIN: 387763.54800 5067364.89500
NATION: US
STATE: MT
NW_QUAD_CORNER_XY: 388191.10400 5067276.17300
NE_QUAD_CORNER_XY: 393052.33700 5067190.69200
SE_QUAD_CORNERY_XY: 392933.01400 5060246.90400
SW_QUAD_CORNER_XY: 388066.35500 5060332.38900
SECONDARY_NW_QUAD_XY: 388187.74900 5067058.40600
SECONDARY_NE_QUAD_XY: 393049.12800 5066972.92300
SECONDARY_SE_QUAD_XY: 392929.80500 5060029.18000
SECONDARY_SW_QUAD_XY: 388063.00100 5060114.66900
RMSE_XY: 4.50000
IMAGE_SOURCE: BLACK AND WHITE FILM
SOURCE_IMAGE_ID: NAPP 9486 20
SOURCE_IMAGE_DATE: 1995 8 20
SOURCE_DEM_DATE: 1997 12 1
AGENCY: WESTERN MAPPING CENTER (WMC)
PRODUCER: NIES MAPPING GROUP
PRODUCTION_SYSTEM: INTERGRAPH-ISIR
COMPRESSION: UNDEFINED
STANDARD_VERSION: 1996 12
METADATA_DATE: 1998 2 9
DATA_FILE_SIZE: 43164324
BYTE_COUNT: 5652
