FILENAME: O4511221.SES.788257.tif
QUADRANGLE_NAME: TABLE MOUNTAIN
QUADRANT: SE
WEST_LONGITUDE: -112 26 15.00000
EAST_LONGITUDE: -112 22 30.00000
NORTH_LATITUDE: 45 41 15.00000
SOUTH_LATITUDE: 45 37 30.00000
PRODUCTION_DATE: 1997 11 25
RASTER_ORDER: LEFT_RIGHT/TOP_BOTTOM
BAND_ORGANIZATION: SINGLE FILE
BAND_CONTENT: BLACK&WHITE
BAND_CONTENT: UNDEFINED
BAND_CONTENT: UNDEFINED
BITS_PER_PIXEL: 8
SAMPLES_AND_LINES: 5657 7636
HORIZONTAL_DATUM: NAD83
HORIZONTAL_COORDINATE_SYSTEM: UTM
COORDINATE_ZONE: 12
HORIZONTAL_UNITS: METERS
HORIZONTAL_RESOLUTION: 1.00000
SECONDARY_HORIZONTAL_DATUM: NAD27
XY_ORIGIN: 387576.41200 5060631.88900
SECONDARY_XY_ORIGIN: 387638.93500 5060421.18300
NATION: US
STATE: MT
NW_QUAD_CORNER_XY: 388066.35500 5060332.38900
NE_QUAD_CORNER_XY: 392933.01400 5060246.90400
SE_QUAD_CORNERY_XY: 392813.81800 5053303.18800
SW_QUAD_CORNER_XY: 387941.74000 5053388.67700
SECONDARY_NW_QUAD_XY: 388063.00100 5060114.66900
SECONDARY_NE_QUAD_XY: 392929.80500 5060029.18000
SECONDARY_SE_QUAD_XY: 392810.61100 5053085.51100
SECONDARY_SW_QUAD_XY: 387938.38700 5053171.00300
RMSE_XY: 2.70000
IMAGE_SOURCE: BLACK AND WHITE FILM
SOURCE_IMAGE_ID: NAPP 8382 264
SOURCE_IMAGE_DATE: 1995 8 1
SOURCE_DEM_DATE: 1997 11 25
AGENCY: WESTERN MAPPING CENTER (WMC)
PRODUCER: NIES MAPPING GROUP
PRODUCTION_SYSTEM: INTERGRAPH-ISIR
COMPRESSION: UNDEFINED
STANDARD_VERSION: 1996 12
METADATA_DATE: 1998 2 9
DATA_FILE_SIZE: 43202509
BYTE_COUNT: 5657
