FILENAME: O4511221.SWS.788258.tif
QUADRANGLE_NAME: TABLE MOUNTAIN
QUADRANT: SW
WEST_LONGITUDE: -112 30 0.00000
EAST_LONGITUDE: -112 26 15.00000
NORTH_LATITUDE: 45 41 15.00000
SOUTH_LATITUDE: 45 37 30.00000
PRODUCTION_DATE: 1997 11 25
RASTER_ORDER: LEFT_RIGHT/TOP_BOTTOM
BAND_ORGANIZATION: SINGLE FILE
BAND_CONTENT: BLACK&WHITE
BAND_CONTENT: UNDEFINED
BAND_CONTENT: UNDEFINED
BITS_PER_PIXEL: 8
SAMPLES_AND_LINES: 5663 7640
HORIZONTAL_DATUM: NAD83
HORIZONTAL_COORDINATE_SYSTEM: UTM
COORDINATE_ZONE: 12
HORIZONTAL_UNITS: METERS
HORIZONTAL_RESOLUTION: 1.00000
SECONDARY_HORIZONTAL_DATUM: NAD27
XY_ORIGIN: 382704.01200 5060721.17600
SECONDARY_XY_ORIGIN: 382766.71900 5060510.41700
NATION: US
STATE: MT
NW_QUAD_CORNER_XY: 383199.69900 5060421.67600
NE_QUAD_CORNER_XY: 388066.35500 5060332.38900
SE_QUAD_CORNERY_XY: 387941.74000 5053388.67700
SW_QUAD_CORNER_XY: 383069.66400 5053477.96800
SECONDARY_NW_QUAD_XY: 383196.19900 5060203.95800
SECONDARY_NE_QUAD_XY: 388063.00100 5060114.66900
SECONDARY_SE_QUAD_XY: 387938.38700 5053171.00300
SECONDARY_SW_QUAD_XY: 383066.16500 5053260.29600
RMSE_XY: 1.50000
IMAGE_SOURCE: BLACK AND WHITE FILM
SOURCE_IMAGE_ID: NAPP 9485 225
SOURCE_IMAGE_DATE: 1995 8 20
SOURCE_DEM_DATE: 1997 11 25
AGENCY: WESTERN MAPPING CENTER (WMC)
PRODUCER: NIES MAPPING GROUP
PRODUCTION_SYSTEM: INTERGRAPH-ISIR
COMPRESSION: UNDEFINED
STANDARD_VERSION: 1996 12
METADATA_DATE: 1998 2 9
DATA_FILE_SIZE: 43270983
BYTE_COUNT: 5663
