FILENAME: O4511220.NWS.788250.tif
QUADRANGLE_NAME: WICKIUP CREEK
QUADRANT: NW
WEST_LONGITUDE: -112 37 30.00000
EAST_LONGITUDE: -112 33 45.00000
NORTH_LATITUDE: 45 45 0.00000
SOUTH_LATITUDE: 45 41 15.00000
PRODUCTION_DATE: 1997 11 25
RASTER_ORDER: LEFT_RIGHT/TOP_BOTTOM
BAND_ORGANIZATION: SINGLE FILE
BAND_CONTENT: BLACK&WHITE
BAND_CONTENT: UNDEFINED
BAND_CONTENT: UNDEFINED
BITS_PER_PIXEL: 8
SAMPLES_AND_LINES: 5669 7648
HORIZONTAL_DATUM: NAD83
HORIZONTAL_COORDINATE_SYSTEM: UTM
COORDINATE_ZONE: 12
HORIZONTAL_UNITS: METERS
HORIZONTAL_RESOLUTION: 1.00000
SECONDARY_HORIZONTAL_DATUM: NAD27
XY_ORIGIN: 373100.16700 5067854.92100
SECONDARY_XY_ORIGIN: 373163.12500 5067644.00500
NATION: US
STATE: MT
NW_QUAD_CORNER_XY: 373607.42700 5067555.42100
NE_QUAD_CORNER_XY: 378468.64900 5067458.53700
SE_QUAD_CORNERY_XY: 378333.04700 5060514.76300
SW_QUAD_CORNER_XY: 373466.39800 5060611.65200
SECONDARY_NW_QUAD_XY: 373603.63400 5067337.66300
SECONDARY_NE_QUAD_XY: 378465.00200 5067240.77600
SECONDARY_SE_QUAD_XY: 378329.40100 5060297.04800
SECONDARY_SW_QUAD_XY: 373462.60600 5060393.94000
RMSE_XY: 3.60000
IMAGE_SOURCE: BLACK AND WHITE FILM
SOURCE_IMAGE_ID: NAPP 8382 88
SOURCE_IMAGE_DATE: 1995 8 1
SOURCE_DEM_DATE: 1997 11 25
AGENCY: WESTERN MAPPING CENTER (WMC)
PRODUCER: NIES MAPPING GROUP
PRODUCTION_SYSTEM: INTERGRAPH-ISIR
COMPRESSION: UNDEFINED
STANDARD_VERSION: 1996 12
METADATA_DATE: 1998 2 9
DATA_FILE_SIZE: 43362181
BYTE_COUNT: 5669
