FILENAME: O4511219.NES.788747.tif
QUADRANGLE_NAME: MELROSE
QUADRANT: NE
WEST_LONGITUDE: -112 41 15.00000
EAST_LONGITUDE: -112 37 30.00000
NORTH_LATITUDE: 45 45 0.00000
SOUTH_LATITUDE: 45 41 15.00000
PRODUCTION_DATE: 1997 11 26
RASTER_ORDER: LEFT_RIGHT/TOP_BOTTOM
BAND_ORGANIZATION: SINGLE FILE
BAND_CONTENT: BLACK&WHITE
BAND_CONTENT: UNDEFINED
BAND_CONTENT: UNDEFINED
BITS_PER_PIXEL: 8
SAMPLES_AND_LINES: 5675 7651
HORIZONTAL_DATUM: NAD83
HORIZONTAL_COORDINATE_SYSTEM: UTM
COORDINATE_ZONE: 12
HORIZONTAL_UNITS: METERS
HORIZONTAL_RESOLUTION: 1.00000
SECONDARY_HORIZONTAL_DATUM: NAD27
XY_ORIGIN: 368233.25300 5067955.60700
SECONDARY_XY_ORIGIN: 368296.31800 5067744.65000
NATION: US
STATE: MT
NW_QUAD_CORNER_XY: 368746.20800 5067656.10700
NE_QUAD_CORNER_XY: 373607.42700 5067555.42100
SE_QUAD_CORNERY_XY: 373466.39800 5060611.65200
SW_QUAD_CORNER_XY: 368599.75200 5060712.34300
SECONDARY_NW_QUAD_XY: 368742.27000 5067438.35200
SECONDARY_NE_QUAD_XY: 373603.63400 5067337.66300
SECONDARY_SE_QUAD_XY: 373462.60600 5060393.94000
SECONDARY_SW_QUAD_XY: 368595.81500 5060494.63400
RMSE_XY: 1.80000
IMAGE_SOURCE: BLACK AND WHITE FILM
SOURCE_IMAGE_ID: NAPP 8382 36
SOURCE_IMAGE_DATE: 1995 8 1
SOURCE_DEM_DATE: 1997 11 26
AGENCY: WESTERN MAPPING CENTER (WMC)
PRODUCER: NIES MAPPING GROUP
PRODUCTION_SYSTEM: INTERGRAPH-ISIR
COMPRESSION: UNDEFINED
STANDARD_VERSION: 1996 12
METADATA_DATE: 1998 2 11
DATA_FILE_SIZE: 43425100
BYTE_COUNT: 5675
