FILENAME: O4511219.NWS.788748.tif
QUADRANGLE_NAME: MELROSE
QUADRANT: NW
WEST_LONGITUDE: -112 45 0.00000
EAST_LONGITUDE: -112 41 15.00000
NORTH_LATITUDE: 45 45 0.00000
SOUTH_LATITUDE: 45 41 15.00000
PRODUCTION_DATE: 1997 11 26
RASTER_ORDER: LEFT_RIGHT/TOP_BOTTOM
BAND_ORGANIZATION: SINGLE FILE
BAND_CONTENT: BLACK&WHITE
BAND_CONTENT: UNDEFINED
BAND_CONTENT: UNDEFINED
BITS_PER_PIXEL: 8
SAMPLES_AND_LINES: 5680 7655
HORIZONTAL_DATUM: NAD83
HORIZONTAL_COORDINATE_SYSTEM: UTM
COORDINATE_ZONE: 12
HORIZONTAL_UNITS: METERS
HORIZONTAL_RESOLUTION: 1.00000
SECONDARY_HORIZONTAL_DATUM: NAD27
XY_ORIGIN: 363366.34200 5068060.09400
SECONDARY_XY_ORIGIN: 363429.50700 5067849.09500
NATION: US
STATE: MT
NW_QUAD_CORNER_XY: 363884.99300 5067760.59400
NE_QUAD_CORNER_XY: 368746.20800 5067656.10700
SE_QUAD_CORNERY_XY: 368599.75200 5060712.34300
SW_QUAD_CORNER_XY: 363733.11000 5060816.83500
SECONDARY_NW_QUAD_XY: 363880.90900 5067542.84200
SECONDARY_NE_QUAD_XY: 368742.27000 5067438.35200
SECONDARY_SE_QUAD_XY: 368595.81500 5060494.63400
SECONDARY_SW_QUAD_XY: 363729.02700 5060599.12900
RMSE_XY: 2.70000
IMAGE_SOURCE: BLACK AND WHITE FILM
SOURCE_IMAGE_ID: NAPP 9483 50
SOURCE_IMAGE_DATE: 1995 8 14
SOURCE_DEM_DATE: 1997 11 26
AGENCY: WESTERN MAPPING CENTER (WMC)
PRODUCER: NIES MAPPING GROUP
PRODUCTION_SYSTEM: INTERGRAPH-ISIR
COMPRESSION: UNDEFINED
STANDARD_VERSION: 1996 12
METADATA_DATE: 1998 2 11
DATA_FILE_SIZE: 43486080
BYTE_COUNT: 5680
