FILENAME: O4511219.SWS.788752.tif
QUADRANGLE_NAME: MELROSE
QUADRANT: SW
WEST_LONGITUDE: -112 45 0.00000
EAST_LONGITUDE: -112 41 15.00000
NORTH_LATITUDE: 45 41 15.00000
SOUTH_LATITUDE: 45 37 30.00000
PRODUCTION_DATE: 1997 11 26
RASTER_ORDER: LEFT_RIGHT/TOP_BOTTOM
BAND_ORGANIZATION: SINGLE FILE
BAND_CONTENT: BLACK&WHITE
BAND_CONTENT: UNDEFINED
BAND_CONTENT: UNDEFINED
BITS_PER_PIXEL: 8
SAMPLES_AND_LINES: 5686 7655
HORIZONTAL_DATUM: NAD83
HORIZONTAL_COORDINATE_SYSTEM: UTM
COORDINATE_ZONE: 12
HORIZONTAL_UNITS: METERS
HORIZONTAL_RESOLUTION: 1.00000
SECONDARY_HORIZONTAL_DATUM: NAD27
XY_ORIGIN: 363214.59900 5061116.33500
SECONDARY_XY_ORIGIN: 363277.78700 5060905.35600
NATION: US
STATE: MT
NW_QUAD_CORNER_XY: 363733.11000 5060816.83500
NE_QUAD_CORNER_XY: 368599.75200 5060712.34300
SE_QUAD_CORNERY_XY: 368453.45300 5053768.64900
SW_QUAD_CORNER_XY: 363581.38900 5053873.14600
SECONDARY_NW_QUAD_XY: 363729.02700 5060599.12900
SECONDARY_NE_QUAD_XY: 368595.81500 5060494.63400
SECONDARY_SE_QUAD_XY: 368449.51700 5053550.98600
SECONDARY_SW_QUAD_XY: 363577.30700 5053655.48600
RMSE_XY: 2.00000
IMAGE_SOURCE: BLACK AND WHITE FILM
SOURCE_IMAGE_ID: NAPP 9483 52
SOURCE_IMAGE_DATE: 1995 8 14
SOURCE_DEM_DATE: 1997 11 26
AGENCY: WESTERN MAPPING CENTER (WMC)
PRODUCER: NIES MAPPING GROUP
PRODUCTION_SYSTEM: INTERGRAPH-ISIR
COMPRESSION: UNDEFINED
STANDARD_VERSION: 1996 12
METADATA_DATE: 1998 2 11
DATA_FILE_SIZE: 43532016
BYTE_COUNT: 5686
