FILENAME: O4511218.NWS.788742.tif
QUADRANGLE_NAME: CATTLE GULCH
QUADRANT: NW
WEST_LONGITUDE: -112 52 30.00000
EAST_LONGITUDE: -112 48 45.00000
NORTH_LATITUDE: 45 45 0.00000
SOUTH_LATITUDE: 45 41 15.00000
PRODUCTION_DATE: 1997 11 26
RASTER_ORDER: LEFT_RIGHT/TOP_BOTTOM
BAND_ORGANIZATION: SINGLE FILE
BAND_CONTENT: BLACK&WHITE
BAND_CONTENT: UNDEFINED
BAND_CONTENT: UNDEFINED
BITS_PER_PIXEL: 8
SAMPLES_AND_LINES: 5692 7663
HORIZONTAL_DATUM: NAD83
HORIZONTAL_COORDINATE_SYSTEM: UTM
COORDINATE_ZONE: 12
HORIZONTAL_UNITS: METERS
HORIZONTAL_RESOLUTION: 1.00000
SECONDARY_HORIZONTAL_DATUM: NAD27
XY_ORIGIN: 353632.69200 5068280.47300
SECONDARY_XY_ORIGIN: 353695.93000 5068069.37800
NATION: US
STATE: MT
NW_QUAD_CORNER_XY: 354162.57600 5067980.97300
NE_QUAD_CORNER_XY: 359023.78300 5067868.88200
SE_QUAD_CORNERY_XY: 358866.47100 5060925.13000
SW_QUAD_CORNER_XY: 353999.83700 5061037.22600
SECONDARY_NW_QUAD_XY: 354158.20000 5067763.22800
SECONDARY_NE_QUAD_XY: 359019.55300 5067651.13400
SECONDARY_SE_QUAD_XY: 358862.24200 5060707.42700
SECONDARY_SW_QUAD_XY: 353995.46200 5060819.52700
RMSE_XY: 3.00000
IMAGE_SOURCE: BLACK AND WHITE FILM
SOURCE_IMAGE_ID: NAPP 9485 208
SOURCE_IMAGE_DATE: 1995 8 20
SOURCE_DEM_DATE: 1997 11 26
AGENCY: WESTERN MAPPING CENTER (WMC)
PRODUCER: NIES MAPPING GROUP
PRODUCTION_SYSTEM: INTERGRAPH-ISIR
COMPRESSION: UNDEFINED
STANDARD_VERSION: 1996 12
METADATA_DATE: 1998 2 11
DATA_FILE_SIZE: 43623488
BYTE_COUNT: 5692
