FILENAME: O4511217.NES.1076760.tif
QUADRANGLE_NAME: VIPOND PARK
QUADRANT: NE
WEST_LONGITUDE: -112 56 15.00000
EAST_LONGITUDE: -112 52 30.00000
NORTH_LATITUDE: 45 45 0.00000
SOUTH_LATITUDE: 45 41 15.00000
PRODUCTION_DATE: 2000 4 4
RASTER_ORDER: LEFT_RIGHT/TOP_BOTTOM
BAND_ORGANIZATION: SINGLE FILE
BAND_CONTENT: BLACK&WHITE
BAND_CONTENT: UNDEFINED
BAND_CONTENT: UNDEFINED
BITS_PER_PIXEL: 8
SAMPLES_AND_LINES: 5700 7669
HORIZONTAL_DATUM: NAD83
HORIZONTAL_COORDINATE_SYSTEM: UTM
COORDINATE_ZONE: 12
HORIZONTAL_UNITS: METERS
HORIZONTAL_RESOLUTION: 1.00000
SECONDARY_HORIZONTAL_DATUM: NAD27
XY_ORIGIN: 348764.00000 5068397.00000
SECONDARY_XY_ORIGIN: 348827.27300 5068185.85900
NATION: US
NATION: "SCIENCE
STATE: MT
NW_QUAD_CORNER_XY: 349301.37400 5068096.86600
NE_QUAD_CORNER_XY: 354162.57600 5067980.97300
SE_QUAD_CORNERY_XY: 353999.83700 5061037.22600
SW_QUAD_CORNER_XY: 349133.20600 5061153.12500
SECONDARY_NW_QUAD_XY: 349296.85300 5067879.12400
SECONDARY_NE_QUAD_XY: 354158.20000 5067763.22700
SECONDARY_SE_QUAD_XY: 353995.46200 5060819.52600
SECONDARY_SW_QUAD_XY: 349128.68500 5060935.42900
RMSE_XY: 1.80000
IMAGE_SOURCE: BLACK AND WHITE FILM
SOURCE_IMAGE_ID: NAPP 9483 152
SOURCE_IMAGE_DATE: 1995 08 14
SOURCE_IMAGE_ID: NAPP 9485 120
SOURCE_IMAGE_DATE: 1995 08 20
SOURCE_IMAGE_ID: NAPP 9483 151
SOURCE_IMAGE_DATE: 1995 08 14
SOURCE_DEM_DATE: 2000 01 01
AGENCY: WESTERN MAPPING CENTER (WMC)
PRODUCER: UNDEFINED
PRODUCTION_SYSTEM: GIS/MAGIC
COMPRESSION: UNDEFINED
STANDARD_VERSION: 1996 12
METADATA_DATE: 2000 05 29
DATA_FILE_SIZE: 43719000
BYTE_COUNT: 5700
