FILENAME: O4511217.SWS.1076763.tif
QUADRANGLE_NAME: VIPOND PARK
QUADRANT: SW
WEST_LONGITUDE: -113 0 0.00000
EAST_LONGITUDE: -112 56 15.00000
NORTH_LATITUDE: 45 41 15.00000
SOUTH_LATITUDE: 45 37 30.00000
PRODUCTION_DATE: 2000 4 4
RASTER_ORDER: LEFT_RIGHT/TOP_BOTTOM
BAND_ORGANIZATION: SINGLE FILE
BAND_CONTENT: BLACK&WHITE
BAND_CONTENT: UNDEFINED
BAND_CONTENT: UNDEFINED
BITS_PER_PIXEL: 8
SAMPLES_AND_LINES: 5711 7673
HORIZONTAL_DATUM: NAD83
HORIZONTAL_COORDINATE_SYSTEM: UTM
COORDINATE_ZONE: 12
HORIZONTAL_UNITS: METERS
HORIZONTAL_RESOLUTION: 1.00000
SECONDARY_HORIZONTAL_DATUM: NAD27
XY_ORIGIN: 343724.00000 5061573.00000
SECONDARY_XY_ORIGIN: 343787.36100 5061361.87700
NATION: US
NATION: "SCIENCE
STATE: MT
NW_QUAD_CORNER_XY: 344266.58000 5061272.82700
NE_QUAD_CORNER_XY: 349133.20600 5061153.12500
SE_QUAD_CORNERY_XY: 348965.21800 5054209.45200
SW_QUAD_CORNER_XY: 344093.16900 5054329.15900
SECONDARY_NW_QUAD_XY: 344261.91300 5061055.13500
SECONDARY_NE_QUAD_XY: 349128.68500 5060935.42900
SECONDARY_SE_QUAD_XY: 348960.69900 5053991.80200
SECONDARY_SW_QUAD_XY: 344088.50300 5054111.51400
RMSE_XY: 1.80000
IMAGE_SOURCE: BLACK AND WHITE FILM
SOURCE_IMAGE_ID: NAPP 9485 123
SOURCE_IMAGE_DATE: 1995 08 20
SOURCE_IMAGE_ID: NAPP 9485 124
SOURCE_IMAGE_DATE: 1995 08 20
SOURCE_IMAGE_ID: NAPP 9485 122
SOURCE_IMAGE_DATE: 1995 08 20
SOURCE_DEM_DATE: 2000 01 01
AGENCY: WESTERN MAPPING CENTER (WMC)
PRODUCER: UNDEFINED
PRODUCTION_SYSTEM: GIS/MAGIC
COMPRESSION: UNDEFINED
STANDARD_VERSION: 1996 12
METADATA_DATE: 2000 05 29
DATA_FILE_SIZE: 43826214
BYTE_COUNT: 5711
