FILENAME: O4511216.NES.1076952.tif
QUADRANGLE_NAME: WHITEHALL
QUADRANT: NE
WEST_LONGITUDE: -112 3 45.00000
EAST_LONGITUDE: -112 0 0.00000
NORTH_LATITUDE: 45 52 30.00000
SOUTH_LATITUDE: 45 48 45.00000
PRODUCTION_DATE: 2000 4 7
RASTER_ORDER: LEFT_RIGHT/TOP_BOTTOM
BAND_ORGANIZATION: SINGLE FILE
BAND_CONTENT: BLACK&WHITE
BAND_CONTENT: UNDEFINED
BAND_CONTENT: UNDEFINED
BITS_PER_PIXEL: 8
SAMPLES_AND_LINES: 5610 7617
HORIZONTAL_DATUM: NAD83
HORIZONTAL_COORDINATE_SYSTEM: UTM
COORDINATE_ZONE: 12
HORIZONTAL_UNITS: METERS
HORIZONTAL_RESOLUTION: 1.00000
SECONDARY_HORIZONTAL_DATUM: NAD27
XY_ORIGIN: 417085.00000 5081009.00000
SECONDARY_XY_ORIGIN: 417146.72700 5080798.43400
NATION: US
NATION: "SCIENCE
STATE: MT
NW_QUAD_CORNER_XY: 417543.23700 5080708.12500
NE_QUAD_CORNER_XY: 422393.62000 5080645.45200
SE_QUAD_CORNERY_XY: 422306.66100 5073701.49400
SW_QUAD_CORNER_XY: 417450.84200 5073764.17100
SECONDARY_NW_QUAD_XY: 417540.75600 5080490.25600
SECONDARY_NE_QUAD_XY: 422391.28500 5080427.58100
SECONDARY_SE_QUAD_XY: 422304.32600 5073483.66700
SECONDARY_SW_QUAD_XY: 417448.36100 5073546.34600
RMSE_XY: 1.10000
IMAGE_SOURCE: BLACK AND WHITE FILM
SOURCE_IMAGE_ID: NAPP 9491 122
SOURCE_IMAGE_DATE: 1995 09 01
SOURCE_IMAGE_ID: NAPP 9483 037
SOURCE_IMAGE_DATE: 1995 08 14
SOURCE_IMAGE_ID: NAPP 9483 036
SOURCE_IMAGE_DATE: 1995 08 14
SOURCE_IMAGE_ID: NAPP 9491 123
SOURCE_IMAGE_DATE: 1995 09 01
SOURCE_IMAGE_ID: NAPP 9491 121
SOURCE_IMAGE_DATE: 1995 09 01
SOURCE_DEM_DATE: 1978 00 00
AGENCY: WESTERN MAPPING CENTER (WMC)
PRODUCER: UNDEFINED
PRODUCTION_SYSTEM: GIS/MAGIC
COMPRESSION: UNDEFINED
STANDARD_VERSION: 1996 12
METADATA_DATE: 2000 05 31
DATA_FILE_SIZE: 42736980
BYTE_COUNT: 5610
