FILENAME: O4511216.SES.1076954.tif
QUADRANGLE_NAME: WHITEHALL
QUADRANT: SE
WEST_LONGITUDE: -112 3 45.00000
EAST_LONGITUDE: -112 0 0.00000
NORTH_LATITUDE: 45 48 45.00000
SOUTH_LATITUDE: 45 45 0.00000
PRODUCTION_DATE: 2000 4 7
RASTER_ORDER: LEFT_RIGHT/TOP_BOTTOM
BAND_ORGANIZATION: SINGLE FILE
BAND_CONTENT: BLACK&WHITE
BAND_CONTENT: UNDEFINED
BAND_CONTENT: UNDEFINED
BITS_PER_PIXEL: 8
SAMPLES_AND_LINES: 5615 7617
HORIZONTAL_DATUM: NAD83
HORIZONTAL_COORDINATE_SYSTEM: UTM
COORDINATE_ZONE: 12
HORIZONTAL_UNITS: METERS
HORIZONTAL_RESOLUTION: 1.00000
SECONDARY_HORIZONTAL_DATUM: NAD27
XY_ORIGIN: 416993.00000 5074065.00000
SECONDARY_XY_ORIGIN: 417054.72600 5073854.48400
NATION: US
NATION: "SCIENCE
STATE: MT
NW_QUAD_CORNER_XY: 417450.84200 5073764.17100
NE_QUAD_CORNER_XY: 422306.66100 5073701.49400
SE_QUAD_CORNERY_XY: 422219.79400 5066757.60900
SW_QUAD_CORNER_XY: 417358.54500 5066820.29000
SECONDARY_NW_QUAD_XY: 417448.36100 5073546.34600
SECONDARY_NE_QUAD_XY: 422304.32600 5073483.66700
SECONDARY_SE_QUAD_XY: 422217.46100 5066539.82700
SECONDARY_SW_QUAD_XY: 417356.06500 5066602.51000
RMSE_XY: 2.10000
IMAGE_SOURCE: BLACK AND WHITE FILM
SOURCE_IMAGE_ID: NAPP 9491 124
SOURCE_IMAGE_DATE: 1995 09 01
SOURCE_IMAGE_ID: NAPP 9483 040
SOURCE_IMAGE_DATE: 1995 08 14
SOURCE_IMAGE_ID: NAPP 9483 039
SOURCE_IMAGE_DATE: 1995 08 14
SOURCE_IMAGE_ID: NAPP 9492 014
SOURCE_IMAGE_DATE: 1995 09 12
SOURCE_IMAGE_ID: NAPP 9491 123
SOURCE_IMAGE_DATE: 1995 09 01
SOURCE_DEM_DATE: 1978 00 00
AGENCY: WESTERN MAPPING CENTER (WMC)
PRODUCER: UNDEFINED
PRODUCTION_SYSTEM: GIS/MAGIC
COMPRESSION: UNDEFINED
STANDARD_VERSION: 1996 12
METADATA_DATE: 2000 05 31
DATA_FILE_SIZE: 42775070
BYTE_COUNT: 5615
