FILENAME: O4511216.SWS.1076955.tif
QUADRANGLE_NAME: WHITEHALL
QUADRANT: SW
WEST_LONGITUDE: -112 7 30.00000
EAST_LONGITUDE: -112 3 45.00000
NORTH_LATITUDE: 45 48 45.00000
SOUTH_LATITUDE: 45 45 0.00000
PRODUCTION_DATE: 2000 4 7
RASTER_ORDER: LEFT_RIGHT/TOP_BOTTOM
BAND_ORGANIZATION: SINGLE FILE
BAND_CONTENT: BLACK&WHITE
BAND_CONTENT: UNDEFINED
BAND_CONTENT: UNDEFINED
BITS_PER_PIXEL: 8
SAMPLES_AND_LINES: 5621 7621
HORIZONTAL_DATUM: NAD83
HORIZONTAL_COORDINATE_SYSTEM: UTM
COORDINATE_ZONE: 12
HORIZONTAL_UNITS: METERS
HORIZONTAL_RESOLUTION: 1.00000
SECONDARY_HORIZONTAL_DATUM: NAD27
XY_ORIGIN: 412131.00000 5074131.00000
SECONDARY_XY_ORIGIN: 412192.80800 5073920.43500
NATION: US
NATION: "SCIENCE
STATE: MT
NW_QUAD_CORNER_XY: 412595.02500 5073830.64700
NE_QUAD_CORNER_XY: 417450.84200 5073764.17100
SE_QUAD_CORNERY_XY: 417358.54500 5066820.29000
SW_QUAD_CORNER_XY: 412497.29800 5066886.77000
SECONDARY_NW_QUAD_XY: 412592.39900 5073612.82400
SECONDARY_NE_QUAD_XY: 417448.36100 5073546.34600
SECONDARY_SE_QUAD_XY: 417356.06500 5066602.51000
SECONDARY_SW_QUAD_XY: 412494.67200 5066668.99200
RMSE_XY: 2.30000
IMAGE_SOURCE: BLACK AND WHITE FILM
SOURCE_IMAGE_ID: NAPP 9483 039
SOURCE_IMAGE_DATE: 1995 08 14
SOURCE_IMAGE_ID: NAPP 9483 040
SOURCE_IMAGE_DATE: 1995 08 14
SOURCE_IMAGE_ID: NAPP 9483 038
SOURCE_IMAGE_DATE: 1995 08 14
SOURCE_IMAGE_ID: NAPP 9491 124
SOURCE_IMAGE_DATE: 1995 09 01
SOURCE_DEM_DATE: 1978 00 00
AGENCY: WESTERN MAPPING CENTER (WMC)
PRODUCER: UNDEFINED
PRODUCTION_SYSTEM: GIS/MAGIC
COMPRESSION: UNDEFINED
STANDARD_VERSION: 1996 12
METADATA_DATE: 2000 05 31
DATA_FILE_SIZE: 42843262
BYTE_COUNT: 5621
