FILENAME: O4511215.NWS.1076909.tif
QUADRANGLE_NAME: VENDOME
QUADRANT: NW
WEST_LONGITUDE: -112 15 0.00000
EAST_LONGITUDE: -112 11 15.00000
NORTH_LATITUDE: 45 52 30.00000
SOUTH_LATITUDE: 45 48 45.00000
PRODUCTION_DATE: 2000 5 9
RASTER_ORDER: LEFT_RIGHT/TOP_BOTTOM
BAND_ORGANIZATION: SINGLE FILE
BAND_CONTENT: BLACK&WHITE
BAND_CONTENT: UNDEFINED
BAND_CONTENT: UNDEFINED
BITS_PER_PIXEL: 8
SAMPLES_AND_LINES: 5627 7628
HORIZONTAL_DATUM: NAD83
HORIZONTAL_COORDINATE_SYSTEM: UTM
COORDINATE_ZONE: 12
HORIZONTAL_UNITS: METERS
HORIZONTAL_RESOLUTION: 1.00000
SECONDARY_HORIZONTAL_DATUM: NAD27
XY_ORIGIN: 402517.00000 5081219.00000
SECONDARY_XY_ORIGIN: 402579.01000 5081008.27900
NATION: US
NATION: "SCIENCE
STATE: MT
NW_QUAD_CORNER_XY: 402992.10600 5080918.94100
NE_QUAD_CORNER_XY: 407842.48000 5080844.86900
SE_QUAD_CORNERY_XY: 407739.21100 5073900.92300
SW_QUAD_CORNER_XY: 402883.40000 5073974.99900
SECONDARY_NW_QUAD_XY: 402989.18700 5080701.07800
SECONDARY_NE_QUAD_XY: 407839.70700 5080627.00400
SECONDARY_SE_QUAD_XY: 407736.43900 5073683.10200
SECONDARY_SW_QUAD_XY: 402880.48300 5073757.18000
RMSE_XY: 1.10000
IMAGE_SOURCE: BLACK AND WHITE FILM
SOURCE_IMAGE_ID: NAPP 9484 152
SOURCE_IMAGE_DATE: 1995 08 14
SOURCE_IMAGE_ID: NAPP 9484 153
SOURCE_IMAGE_DATE: 1995 08 14
SOURCE_IMAGE_ID: NAPP 9484 151
SOURCE_IMAGE_DATE: 1995 08 14
SOURCE_DEM_DATE: 1960 00 00
AGENCY: WESTERN MAPPING CENTER (WMC)
PRODUCER: UNDEFINED
PRODUCTION_SYSTEM: GIS/MAGIC
COMPRESSION: UNDEFINED
STANDARD_VERSION: 1996 12
METADATA_DATE: 2000 05 31
DATA_FILE_SIZE: 42928383
BYTE_COUNT: 5627
