FILENAME: O4511214.SWS.788249.tif
QUADRANGLE_NAME: GRACE
QUADRANT: SW
WEST_LONGITUDE: -112 22 30.00000
EAST_LONGITUDE: -112 18 45.00000
NORTH_LATITUDE: 45 48 45.00000
SOUTH_LATITUDE: 45 45 0.00000
PRODUCTION_DATE: 1997 11 26
RASTER_ORDER: LEFT_RIGHT/TOP_BOTTOM
BAND_ORGANIZATION: SINGLE FILE
BAND_CONTENT: BLACK&WHITE
BAND_CONTENT: UNDEFINED
BAND_CONTENT: UNDEFINED
BITS_PER_PIXEL: 8
SAMPLES_AND_LINES: 5641 7633
HORIZONTAL_DATUM: NAD83
HORIZONTAL_COORDINATE_SYSTEM: UTM
COORDINATE_ZONE: 12
HORIZONTAL_UNITS: METERS
HORIZONTAL_RESOLUTION: 1.00000
SECONDARY_HORIZONTAL_DATUM: NAD27
XY_ORIGIN: 392687.29600 5074434.05200
SECONDARY_XY_ORIGIN: 392749.67100 5074223.27800
NATION: US
STATE: MT
NW_QUAD_CORNER_XY: 393171.78800 5074134.55200
NE_QUAD_CORNER_XY: 398027.59300 5074052.87600
SE_QUAD_CORNERY_XY: 397913.57300 5067109.01100
SW_QUAD_CORNER_XY: 393052.33700 5067190.69200
SECONDARY_NW_QUAD_XY: 393168.57900 5073916.73800
SECONDARY_NE_QUAD_XY: 398024.52900 5073835.05900
SECONDARY_SE_QUAD_XY: 397910.51000 5066891.24000
SECONDARY_SW_QUAD_XY: 393049.12800 5066972.92300
RMSE_XY: 1.00000
IMAGE_SOURCE: BLACK AND WHITE FILM
SOURCE_IMAGE_ID: NAPP 9484 24
SOURCE_IMAGE_DATE: 1995 8 14
SOURCE_DEM_DATE: 1997 11 26
AGENCY: WESTERN MAPPING CENTER (WMC)
PRODUCER: NIES MAPPING GROUP
PRODUCTION_SYSTEM: INTERGRAPH-ISIR
COMPRESSION: UNDEFINED
STANDARD_VERSION: 1996 12
METADATA_DATE: 1998 2 9
DATA_FILE_SIZE: 43063394
BYTE_COUNT: 5641
