FILENAME: O4511213.NES.788239.tif
QUADRANGLE_NAME: PIPESTONE PASS
QUADRANT: NE
WEST_LONGITUDE: -112 26 15.00000
EAST_LONGITUDE: -112 22 30.00000
NORTH_LATITUDE: 45 52 30.00000
SOUTH_LATITUDE: 45 48 45.00000
PRODUCTION_DATE: 1997 11 26
RASTER_ORDER: LEFT_RIGHT/TOP_BOTTOM
BAND_ORGANIZATION: SINGLE FILE
BAND_CONTENT: BLACK&WHITE
BAND_CONTENT: UNDEFINED
BAND_CONTENT: UNDEFINED
BITS_PER_PIXEL: 8
SAMPLES_AND_LINES: 5641 7636
HORIZONTAL_DATUM: NAD83
HORIZONTAL_COORDINATE_SYSTEM: UTM
COORDINATE_ZONE: 12
HORIZONTAL_UNITS: METERS
HORIZONTAL_RESOLUTION: 1.00000
SECONDARY_HORIZONTAL_DATUM: NAD27
XY_ORIGIN: 387950.58000 5081463.45500
SECONDARY_XY_ORIGIN: 388013.16700 5081252.57600
NATION: US
STATE: MT
NW_QUAD_CORNER_XY: 388441.00500 5081163.95500
NE_QUAD_CORNER_XY: 393291.36800 5081078.48400
SE_QUAD_CORNERY_XY: 393171.78800 5074134.55200
SW_QUAD_CORNER_XY: 388315.98700 5074220.02800
SECONDARY_NW_QUAD_XY: 388437.64800 5080946.09900
SECONDARY_NE_QUAD_XY: 393288.15700 5080860.62600
SECONDARY_SE_QUAD_XY: 393168.57900 5073916.73800
SECONDARY_SW_QUAD_XY: 388312.63200 5074002.21700
RMSE_XY: 2.80000
IMAGE_SOURCE: BLACK AND WHITE FILM
SOURCE_IMAGE_ID: NAPP 9486 24
SOURCE_IMAGE_DATE: 1995 8 20
SOURCE_DEM_DATE: 1997 11 26
AGENCY: WESTERN MAPPING CENTER (WMC)
PRODUCER: NIES MAPPING GROUP
PRODUCTION_SYSTEM: INTERGRAPH-ISIR
COMPRESSION: UNDEFINED
STANDARD_VERSION: 1996 12
METADATA_DATE: 1998 2 9
DATA_FILE_SIZE: 43080317
BYTE_COUNT: 5641
