FILENAME: O4511213.SES.788242.tif
QUADRANGLE_NAME: PIPESTONE PASS
QUADRANT: SE
WEST_LONGITUDE: -112 26 15.00000
EAST_LONGITUDE: -112 22 30.00000
NORTH_LATITUDE: 45 48 45.00000
SOUTH_LATITUDE: 45 45 0.00000
PRODUCTION_DATE: 1997 11 26
RASTER_ORDER: LEFT_RIGHT/TOP_BOTTOM
BAND_ORGANIZATION: SINGLE FILE
BAND_CONTENT: BLACK&WHITE
BAND_CONTENT: UNDEFINED
BAND_CONTENT: UNDEFINED
BITS_PER_PIXEL: 8
SAMPLES_AND_LINES: 5647 7636
HORIZONTAL_DATUM: NAD83
HORIZONTAL_COORDINATE_SYSTEM: UTM
COORDINATE_ZONE: 12
HORIZONTAL_UNITS: METERS
HORIZONTAL_RESOLUTION: 1.00000
SECONDARY_HORIZONTAL_DATUM: NAD27
XY_ORIGIN: 387825.71500 5074519.52800
SECONDARY_XY_ORIGIN: 387888.28500 5074308.69900
NATION: US
STATE: MT
NW_QUAD_CORNER_XY: 388315.98700 5074220.02800
NE_QUAD_CORNER_XY: 393171.78800 5074134.55200
SE_QUAD_CORNERY_XY: 393052.33700 5067190.69200
SW_QUAD_CORNER_XY: 388191.10400 5067276.17300
SECONDARY_NW_QUAD_XY: 388312.63200 5074002.21700
SECONDARY_NE_QUAD_XY: 393168.57900 5073916.73800
SECONDARY_SE_QUAD_XY: 393049.12800 5066972.92300
SECONDARY_SW_QUAD_XY: 388187.74900 5067058.40600
RMSE_XY: 1.70000
IMAGE_SOURCE: BLACK AND WHITE FILM
SOURCE_IMAGE_ID: NAPP 9486 22
SOURCE_IMAGE_DATE: 1995 8 20
SOURCE_DEM_DATE: 1997 11 26
AGENCY: WESTERN MAPPING CENTER (WMC)
PRODUCER: NIES MAPPING GROUP
PRODUCTION_SYSTEM: INTERGRAPH-ISIR
COMPRESSION: UNDEFINED
STANDARD_VERSION: 1996 12
METADATA_DATE: 1998 2 9
DATA_FILE_SIZE: 43126139
BYTE_COUNT: 5647
