FILENAME: O4511213.SWS.788243.tif
QUADRANGLE_NAME: PIPESTONE PASS
QUADRANT: SW
WEST_LONGITUDE: -112 30 0.00000
EAST_LONGITUDE: -112 26 15.00000
NORTH_LATITUDE: 45 48 45.00000
SOUTH_LATITUDE: 45 45 0.00000
PRODUCTION_DATE: 1997 11 26
RASTER_ORDER: LEFT_RIGHT/TOP_BOTTOM
BAND_ORGANIZATION: SINGLE FILE
BAND_CONTENT: BLACK&WHITE
BAND_CONTENT: UNDEFINED
BAND_CONTENT: UNDEFINED
BITS_PER_PIXEL: 8
SAMPLES_AND_LINES: 5652 7640
HORIZONTAL_DATUM: NAD83
HORIZONTAL_COORDINATE_SYSTEM: UTM
COORDINATE_ZONE: 12
HORIZONTAL_UNITS: METERS
HORIZONTAL_RESOLUTION: 1.00000
SECONDARY_HORIZONTAL_DATUM: NAD27
XY_ORIGIN: 382964.13900 5074608.80500
SECONDARY_XY_ORIGIN: 383026.89500 5074397.92200
NATION: US
STATE: MT
NW_QUAD_CORNER_XY: 383460.19000 5074309.30500
NE_QUAD_CORNER_XY: 388315.98700 5074220.02800
SE_QUAD_CORNERY_XY: 388191.10400 5067276.17300
SW_QUAD_CORNER_XY: 383329.87500 5067365.45500
SECONDARY_NW_QUAD_XY: 383456.68900 5074091.49600
SECONDARY_NE_QUAD_XY: 388312.63200 5074002.21700
SECONDARY_SE_QUAD_XY: 388187.74900 5067058.40600
SECONDARY_SW_QUAD_XY: 383326.37400 5067147.69100
RMSE_XY: 3.70000
IMAGE_SOURCE: BLACK AND WHITE FILM
SOURCE_IMAGE_ID: NAPP 9485 221
SOURCE_IMAGE_DATE: 1995 8 20
SOURCE_DEM_DATE: 1997 11 26
AGENCY: WESTERN MAPPING CENTER (WMC)
PRODUCER: NIES MAPPING GROUP
PRODUCTION_SYSTEM: INTERGRAPH-ISIR
COMPRESSION: UNDEFINED
STANDARD_VERSION: 1996 12
METADATA_DATE: 1998 2 9
DATA_FILE_SIZE: 43186932
BYTE_COUNT: 5652
