FILENAME: O4511212.NES.788230.tif
QUADRANGLE_NAME: MOUNT HUMBUG
QUADRANT: NE
WEST_LONGITUDE: -112 33 45.00000
EAST_LONGITUDE: -112 30 0.00000
NORTH_LATITUDE: 45 52 30.00000
SOUTH_LATITUDE: 45 48 45.00000
PRODUCTION_DATE: 1997 11 26
RASTER_ORDER: LEFT_RIGHT/TOP_BOTTOM
BAND_ORGANIZATION: SINGLE FILE
BAND_CONTENT: BLACK&WHITE
BAND_CONTENT: UNDEFINED
BAND_CONTENT: UNDEFINED
BITS_PER_PIXEL: 8
SAMPLES_AND_LINES: 5653 7644
HORIZONTAL_DATUM: NAD83
HORIZONTAL_COORDINATE_SYSTEM: UTM
COORDINATE_ZONE: 12
HORIZONTAL_UNITS: METERS
HORIZONTAL_RESOLUTION: 1.00000
SECONDARY_HORIZONTAL_DATUM: NAD27
XY_ORIGIN: 378238.39800 5081645.79800
SECONDARY_XY_ORIGIN: 378301.26800 5081434.83800
NATION: US
STATE: MT
NW_QUAD_CORNER_XY: 378740.29000 5081346.29800
NE_QUAD_CORNER_XY: 383590.64500 5081253.22600
SE_QUAD_CORNERY_XY: 383460.19000 5074309.30500
SW_QUAD_CORNER_XY: 378604.39700 5074402.38200
SECONDARY_NW_QUAD_XY: 378736.64100 5081128.44800
SECONDARY_NE_QUAD_XY: 383587.14300 5081035.37300
SECONDARY_SE_QUAD_XY: 383456.68900 5074091.49600
SECONDARY_SW_QUAD_XY: 378600.74900 5074184.57600
RMSE_XY: 1.80000
IMAGE_SOURCE: BLACK AND WHITE FILM
SOURCE_IMAGE_ID: NAPP 8382 163
SOURCE_IMAGE_DATE: 1995 8 1
SOURCE_DEM_DATE: 1997 11 26
AGENCY: WESTERN MAPPING CENTER (WMC)
PRODUCER: NIES MAPPING GROUP
PRODUCTION_SYSTEM: INTERGRAPH-ISIR
COMPRESSION: UNDEFINED
STANDARD_VERSION: 1996 12
METADATA_DATE: 1998 2 9
DATA_FILE_SIZE: 43217185
BYTE_COUNT: 5653
