FILENAME: O4511212.NWS.788235.tif
QUADRANGLE_NAME: MOUNT HUMBUG
QUADRANT: NW
WEST_LONGITUDE: -112 37 30.00000
EAST_LONGITUDE: -112 33 45.00000
NORTH_LATITUDE: 45 52 30.00000
SOUTH_LATITUDE: 45 48 45.00000
PRODUCTION_DATE: 1997 11 26
RASTER_ORDER: LEFT_RIGHT/TOP_BOTTOM
BAND_ORGANIZATION: SINGLE FILE
BAND_CONTENT: BLACK&WHITE
BAND_CONTENT: UNDEFINED
BAND_CONTENT: UNDEFINED
BITS_PER_PIXEL: 8
SAMPLES_AND_LINES: 5658 7648
HORIZONTAL_DATUM: NAD83
HORIZONTAL_COORDINATE_SYSTEM: UTM
COORDINATE_ZONE: 12
HORIZONTAL_UNITS: METERS
HORIZONTAL_RESOLUTION: 1.00000
SECONDARY_HORIZONTAL_DATUM: NAD27
XY_ORIGIN: 373382.35900 5081742.67000
SECONDARY_XY_ORIGIN: 373445.33100 5081531.68000
NATION: US
STATE: MT
NW_QUAD_CORNER_XY: 373889.93800 5081443.17000
NE_QUAD_CORNER_XY: 378740.29000 5081346.29800
SE_QUAD_CORNERY_XY: 378604.39700 5074402.38200
SW_QUAD_CORNER_XY: 373748.60700 5074499.26100
SECONDARY_NW_QUAD_XY: 373886.14400 5081225.32300
SECONDARY_NE_QUAD_XY: 378736.64100 5081128.44800
SECONDARY_SE_QUAD_XY: 378600.74900 5074184.57600
SECONDARY_SW_QUAD_XY: 373744.81400 5074281.45800
RMSE_XY: 1.00000
IMAGE_SOURCE: BLACK AND WHITE FILM
SOURCE_IMAGE_ID: NAPP 8382 84
SOURCE_IMAGE_DATE: 1995 8 1
SOURCE_DEM_DATE: 1997 11 26
AGENCY: WESTERN MAPPING CENTER (WMC)
PRODUCER: NIES MAPPING GROUP
PRODUCTION_SYSTEM: INTERGRAPH-ISIR
COMPRESSION: UNDEFINED
STANDARD_VERSION: 1996 12
METADATA_DATE: 1998 2 9
DATA_FILE_SIZE: 43278042
BYTE_COUNT: 5658
