FILENAME: O4511210.SES.1076790.tif
QUADRANGLE_NAME: DEWEY
QUADRANT: SE
WEST_LONGITUDE: -112 48 45.00000
EAST_LONGITUDE: -112 45 0.00000
NORTH_LATITUDE: 45 48 45.00000
SOUTH_LATITUDE: 45 45 0.00000
PRODUCTION_DATE: 2000 3 17
RASTER_ORDER: LEFT_RIGHT/TOP_BOTTOM
BAND_ORGANIZATION: SINGLE FILE
BAND_CONTENT: BLACK&WHITE
BAND_CONTENT: UNDEFINED
BAND_CONTENT: UNDEFINED
BITS_PER_PIXEL: 8
SAMPLES_AND_LINES: 5684 7662
HORIZONTAL_DATUM: NAD83
HORIZONTAL_COORDINATE_SYSTEM: UTM
COORDINATE_ZONE: 12
HORIZONTAL_UNITS: METERS
HORIZONTAL_RESOLUTION: 1.00000
SECONDARY_HORIZONTAL_DATUM: NAD27
XY_ORIGIN: 358655.00000 5075113.00000
SECONDARY_XY_ORIGIN: 358718.20900 5074901.92600
NATION: US
NATION: "SCIENCE
STATE: MT
NW_QUAD_CORNER_XY: 359181.26300 5074812.70300
NE_QUAD_CORNER_XY: 364037.04000 5074704.42100
SE_QUAD_CORNERY_XY: 363884.99300 5067760.59300
SW_QUAD_CORNER_XY: 359023.78300 5067868.88200
SECONDARY_NW_QUAD_XY: 359177.03200 5074594.91000
SECONDARY_NE_QUAD_XY: 364032.95500 5074486.62400
SECONDARY_SE_QUAD_XY: 363880.90900 5067542.84100
SECONDARY_SW_QUAD_XY: 359019.55300 5067651.13300
RMSE_XY: 1.70000
IMAGE_SOURCE: BLACK AND WHITE FILM
SOURCE_IMAGE_ID: NAPP 9483 135
SOURCE_IMAGE_DATE: 1995 08 14
SOURCE_IMAGE_ID: NAPP 9485 210
SOURCE_IMAGE_DATE: 1995 08 20
SOURCE_IMAGE_ID: NAPP 9483 134
SOURCE_IMAGE_DATE: 1995 08 14
SOURCE_IMAGE_ID: NAPP 9483 136
SOURCE_IMAGE_DATE: 1995 08 14
SOURCE_DEM_DATE: 2000 01 01
AGENCY: WESTERN MAPPING CENTER (WMC)
PRODUCER: UNDEFINED
PRODUCTION_SYSTEM: GIS/MAGIC
COMPRESSION: UNDEFINED
STANDARD_VERSION: 1996 12
METADATA_DATE: 2000 05 29
DATA_FILE_SIZE: 43556492
BYTE_COUNT: 5684
