FILENAME: O4511210.SWS.1076791.tif
QUADRANGLE_NAME: DEWEY
QUADRANT: SW
WEST_LONGITUDE: -112 52 30.00000
EAST_LONGITUDE: -112 48 45.00000
NORTH_LATITUDE: 45 48 45.00000
SOUTH_LATITUDE: 45 45 0.00000
PRODUCTION_DATE: 2000 3 17
RASTER_ORDER: LEFT_RIGHT/TOP_BOTTOM
BAND_ORGANIZATION: SINGLE FILE
BAND_CONTENT: BLACK&WHITE
BAND_CONTENT: UNDEFINED
BAND_CONTENT: UNDEFINED
BITS_PER_PIXEL: 8
SAMPLES_AND_LINES: 5690 7665
HORIZONTAL_DATUM: NAD83
HORIZONTAL_COORDINATE_SYSTEM: UTM
COORDINATE_ZONE: 12
HORIZONTAL_UNITS: METERS
HORIZONTAL_RESOLUTION: 1.00000
SECONDARY_HORIZONTAL_DATUM: NAD27
XY_ORIGIN: 353793.00000 5075225.00000
SECONDARY_XY_ORIGIN: 353856.25100 5075013.88000
NATION: US
NATION: "SCIENCE
STATE: MT
NW_QUAD_CORNER_XY: 354325.49100 5074924.78800
NE_QUAD_CORNER_XY: 359181.26300 5074812.70300
SE_QUAD_CORNERY_XY: 359023.78300 5067868.88200
SW_QUAD_CORNER_XY: 354162.57600 5067980.97300
SECONDARY_NW_QUAD_XY: 354321.11400 5074706.99700
SECONDARY_NE_QUAD_XY: 359177.03200 5074594.91000
SECONDARY_SE_QUAD_XY: 359019.55300 5067651.13300
SECONDARY_SW_QUAD_XY: 354158.20000 5067763.22700
RMSE_XY: 2.10000
IMAGE_SOURCE: BLACK AND WHITE FILM
SOURCE_IMAGE_ID: NAPP 9485 210
SOURCE_IMAGE_DATE: 1995 08 20
SOURCE_IMAGE_ID: NAPP 9483 151
SOURCE_IMAGE_DATE: 1995 08 14
SOURCE_IMAGE_ID: NAPP 9483 149
SOURCE_IMAGE_DATE: 1995 08 14
SOURCE_IMAGE_ID: NAPP 9485 209
SOURCE_IMAGE_DATE: 1995 08 20
SOURCE_IMAGE_ID: NAPP 9485 211
SOURCE_IMAGE_DATE: 1995 08 20
SOURCE_DEM_DATE: 2000 01 01
AGENCY: WESTERN MAPPING CENTER (WMC)
PRODUCER: UNDEFINED
PRODUCTION_SYSTEM: GIS/MAGIC
COMPRESSION: UNDEFINED
STANDARD_VERSION: 1996 12
METADATA_DATE: 2000 05 29
DATA_FILE_SIZE: 43619540
BYTE_COUNT: 5690
