FILENAME: O4511208.NES.1076948.tif
QUADRANGLE_NAME: BLACK BUTTE
QUADRANT: NE
WEST_LONGITUDE: -112 3 45.00000
EAST_LONGITUDE: -112 0 0.00000
NORTH_LATITUDE: 46 0 0.00000
SOUTH_LATITUDE: 45 56 15.00000
PRODUCTION_DATE: 2000 4 20
RASTER_ORDER: LEFT_RIGHT/TOP_BOTTOM
BAND_ORGANIZATION: SINGLE FILE
BAND_CONTENT: BLACK&WHITE
BAND_CONTENT: UNDEFINED
BAND_CONTENT: UNDEFINED
BITS_PER_PIXEL: 8
SAMPLES_AND_LINES: 5599 7617
HORIZONTAL_DATUM: NAD83
HORIZONTAL_COORDINATE_SYSTEM: UTM
COORDINATE_ZONE: 12
HORIZONTAL_UNITS: METERS
HORIZONTAL_RESOLUTION: 1.00000
SECONDARY_HORIZONTAL_DATUM: NAD27
XY_ORIGIN: 417270.00000 5094897.00000
SECONDARY_XY_ORIGIN: 417331.73000 5094686.33500
NATION: US
NATION: "SCIENCE
STATE: MT
NW_QUAD_CORNER_XY: 417728.32400 5094596.25500
NE_QUAD_CORNER_XY: 422567.81700 5094533.59100
SE_QUAD_CORNERY_XY: 422480.67200 5087589.48400
SW_QUAD_CORNER_XY: 417635.73100 5087652.15300
SECONDARY_NW_QUAD_XY: 417725.84200 5094378.30100
SECONDARY_NE_QUAD_XY: 422565.48200 5094315.63400
SECONDARY_SE_QUAD_XY: 422478.33700 5087371.57000
SECONDARY_SW_QUAD_XY: 417633.25000 5087434.24100
RMSE_XY: 2.50000
IMAGE_SOURCE: BLACK AND WHITE FILM
SOURCE_IMAGE_ID: NAPP 9491 118
SOURCE_IMAGE_DATE: 1995 09 01
SOURCE_IMAGE_ID: NAPP 9483 032
SOURCE_IMAGE_DATE: 1995 08 14
SOURCE_IMAGE_ID: NAPP 9491 119
SOURCE_IMAGE_DATE: 1995 09 01
SOURCE_IMAGE_ID: NAPP 9491 117
SOURCE_IMAGE_DATE: 1995 09 01
SOURCE_DEM_DATE: 1988 00 00
AGENCY: WESTERN MAPPING CENTER (WMC)
PRODUCER: UNDEFINED
PRODUCTION_SYSTEM: GIS/MAGIC
COMPRESSION: UNDEFINED
STANDARD_VERSION: 1996 12
METADATA_DATE: 2000 05 31
DATA_FILE_SIZE: 42653182
BYTE_COUNT: 5599
