FILENAME: O4511208.SWS.1076951.tif
QUADRANGLE_NAME: BLACK BUTTE
QUADRANT: SW
WEST_LONGITUDE: -112 7 30.00000
EAST_LONGITUDE: -112 3 45.00000
NORTH_LATITUDE: 45 56 15.00000
SOUTH_LATITUDE: 45 52 30.00000
PRODUCTION_DATE: 2000 4 20
RASTER_ORDER: LEFT_RIGHT/TOP_BOTTOM
BAND_ORGANIZATION: SINGLE FILE
BAND_CONTENT: BLACK&WHITE
BAND_CONTENT: UNDEFINED
BAND_CONTENT: UNDEFINED
BITS_PER_PIXEL: 8
SAMPLES_AND_LINES: 5610 7621
HORIZONTAL_DATUM: NAD83
HORIZONTAL_COORDINATE_SYSTEM: UTM
COORDINATE_ZONE: 12
HORIZONTAL_UNITS: METERS
HORIZONTAL_RESOLUTION: 1.00000
SECONDARY_HORIZONTAL_DATUM: NAD27
XY_ORIGIN: 412327.00000 5088019.00000
SECONDARY_XY_ORIGIN: 412388.83500 5087808.33000
NATION: US
NATION: "SCIENCE
STATE: MT
NW_QUAD_CORNER_XY: 412790.79300 5087718.62200
NE_QUAD_CORNER_XY: 417635.73100 5087652.15300
SE_QUAD_CORNERY_XY: 417543.23700 5080708.12500
SW_QUAD_CORNER_XY: 412692.85700 5080774.59800
SECONDARY_NW_QUAD_XY: 412788.16600 5087500.71100
SECONDARY_NE_QUAD_XY: 417633.25000 5087434.24100
SECONDARY_SE_QUAD_XY: 417540.75600 5080490.25600
SECONDARY_SW_QUAD_XY: 412690.23000 5080556.73100
RMSE_XY: 2.20000
IMAGE_SOURCE: BLACK AND WHITE FILM
SOURCE_IMAGE_ID: NAPP 9483 035
SOURCE_IMAGE_DATE: 1995 08 14
SOURCE_IMAGE_ID: NAPP 8388 102
SOURCE_IMAGE_DATE: 1995 08 09
SOURCE_IMAGE_ID: NAPP 9483 036
SOURCE_IMAGE_DATE: 1995 08 14
SOURCE_IMAGE_ID: NAPP 9483 034
SOURCE_IMAGE_DATE: 1995 08 14
SOURCE_IMAGE_ID: NAPP 9491 120
SOURCE_IMAGE_DATE: 1995 09 01
SOURCE_DEM_DATE: 1988 00 00
AGENCY: WESTERN MAPPING CENTER (WMC)
PRODUCER: UNDEFINED
PRODUCTION_SYSTEM: GIS/MAGIC
COMPRESSION: UNDEFINED
STANDARD_VERSION: 1996 12
METADATA_DATE: 2000 05 31
DATA_FILE_SIZE: 42759420
BYTE_COUNT: 5610
