FILENAME: O4511205.NWS.1076833.tif
QUADRANGLE_NAME: HOMESTAKE
QUADRANT: NW
WEST_LONGITUDE: -112 30 0.00000
EAST_LONGITUDE: -112 26 15.00000
NORTH_LATITUDE: 46 0 0.00000
SOUTH_LATITUDE: 45 56 15.00000
PRODUCTION_DATE: 2000 3 22
RASTER_ORDER: LEFT_RIGHT/TOP_BOTTOM
BAND_ORGANIZATION: SINGLE FILE
BAND_CONTENT: BLACK&WHITE
BAND_CONTENT: UNDEFINED
BAND_CONTENT: UNDEFINED
BITS_PER_PIXEL: 8
SAMPLES_AND_LINES: 5640 7644
HORIZONTAL_DATUM: NAD83
HORIZONTAL_COORDINATE_SYSTEM: UTM
COORDINATE_ZONE: 12
HORIZONTAL_UNITS: METERS
HORIZONTAL_RESOLUTION: 1.00000
SECONDARY_HORIZONTAL_DATUM: NAD27
XY_ORIGIN: 383353.00000 5095442.00000
SECONDARY_XY_ORIGIN: 383415.79900 5095230.97200
NATION: US
NATION: "SCIENCE
STATE: MT
NW_QUAD_CORNER_XY: 383851.97300 5095141.28100
NE_QUAD_CORNER_XY: 388691.43900 5095052.02200
SE_QUAD_CORNERY_XY: 388566.15500 5088107.95200
SW_QUAD_CORNER_XY: 383721.23900 5088197.21700
SECONDARY_NW_QUAD_XY: 383848.46900 5094923.34200
SECONDARY_NE_QUAD_XY: 388688.08100 5094834.08100
SECONDARY_SE_QUAD_XY: 388562.79800 5087890.05300
SECONDARY_SW_QUAD_XY: 383717.73600 5087979.32100
RMSE_XY: 1.50000
IMAGE_SOURCE: BLACK AND WHITE FILM
SOURCE_IMAGE_ID: NAPP 8382 176
SOURCE_IMAGE_DATE: 1995 08 01
SOURCE_IMAGE_ID: NAPP 8382 166
SOURCE_IMAGE_DATE: 1995 08 01
SOURCE_IMAGE_ID: NAPP 8382 168
SOURCE_IMAGE_DATE: 1995 08 01
SOURCE_IMAGE_ID: NAPP 8382 179
SOURCE_IMAGE_DATE: 1995 08 01
SOURCE_IMAGE_ID: NAPP 8382 177
SOURCE_IMAGE_DATE: 1995 08 01
SOURCE_DEM_DATE: 1960 00 00
AGENCY: WESTERN MAPPING CENTER (WMC)
PRODUCER: UNDEFINED
PRODUCTION_SYSTEM: GIS/MAGIC
COMPRESSION: UNDEFINED
STANDARD_VERSION: 1996 12
METADATA_DATE: 2000 05 29
DATA_FILE_SIZE: 43117800
BYTE_COUNT: 5640
