FILENAME: O4511204.NWS.1076821.tif
QUADRANGLE_NAME: BUTTE SOUTH
QUADRANT: NW
WEST_LONGITUDE: -112 37 30.00000
EAST_LONGITUDE: -112 33 45.00000
NORTH_LATITUDE: 46 0 0.00000
SOUTH_LATITUDE: 45 56 15.00000
PRODUCTION_DATE: 2000 3 22
RASTER_ORDER: LEFT_RIGHT/TOP_BOTTOM
BAND_ORGANIZATION: SINGLE FILE
BAND_CONTENT: BLACK&WHITE
BAND_CONTENT: UNDEFINED
BAND_CONTENT: UNDEFINED
BITS_PER_PIXEL: 8
SAMPLES_AND_LINES: 5651 7651
HORIZONTAL_DATUM: NAD83
HORIZONTAL_COORDINATE_SYSTEM: UTM
COORDINATE_ZONE: 12
HORIZONTAL_UNITS: METERS
HORIZONTAL_RESOLUTION: 1.00000
SECONDARY_HORIZONTAL_DATUM: NAD27
XY_ORIGIN: 373663.00000 5095632.00000
SECONDARY_XY_ORIGIN: 373725.98600 5095420.93600
NATION: US
NATION: "SCIENCE
STATE: MT
NW_QUAD_CORNER_XY: 374173.05400 5095331.19900
NE_QUAD_CORNER_XY: 379012.51100 5095234.34000
SE_QUAD_CORNERY_XY: 378876.32800 5088290.28300
SW_QUAD_CORNER_XY: 374031.42100 5088387.14900
SECONDARY_NW_QUAD_XY: 374169.25800 5095113.26600
SECONDARY_NE_QUAD_XY: 379008.86100 5095016.40400
SECONDARY_SE_QUAD_XY: 378872.67900 5088072.39000
SECONDARY_SW_QUAD_XY: 374027.62600 5088169.25900
RMSE_XY: 1.80000
IMAGE_SOURCE: BLACK AND WHITE FILM
SOURCE_IMAGE_ID: NAPP 8382 080
SOURCE_IMAGE_DATE: 1995 08 01
SOURCE_IMAGE_ID: NAPP 8382 081
SOURCE_IMAGE_DATE: 1995 08 01
SOURCE_IMAGE_ID: NAPP 8382 168
SOURCE_IMAGE_DATE: 1995 08 01
SOURCE_DEM_DATE: 1956 00 00
AGENCY: WESTERN MAPPING CENTER (WMC)
PRODUCER: UNDEFINED
PRODUCTION_SYSTEM: GIS/MAGIC
COMPRESSION: UNDEFINED
STANDARD_VERSION: 1996 12
METADATA_DATE: 2000 05 29
DATA_FILE_SIZE: 43241452
BYTE_COUNT: 5651
