FILENAME: O4511203.SES.1076798.tif
QUADRANGLE_NAME: BUXTON
QUADRANT: SE
WEST_LONGITUDE: -112 41 15.00000
EAST_LONGITUDE: -112 37 30.00000
NORTH_LATITUDE: 45 56 15.00000
SOUTH_LATITUDE: 45 52 30.00000
PRODUCTION_DATE: 2000 3 24
RASTER_ORDER: LEFT_RIGHT/TOP_BOTTOM
BAND_ORGANIZATION: SINGLE FILE
BAND_CONTENT: BLACK&WHITE
BAND_CONTENT: UNDEFINED
BAND_CONTENT: UNDEFINED
BITS_PER_PIXEL: 8
SAMPLES_AND_LINES: 5662 7654
HORIZONTAL_DATUM: NAD83
HORIZONTAL_COORDINATE_SYSTEM: UTM
COORDINATE_ZONE: 12
HORIZONTAL_UNITS: METERS
HORIZONTAL_RESOLUTION: 1.00000
SECONDARY_HORIZONTAL_DATUM: NAD27
XY_ORIGIN: 368671.00000 5088788.00000
SECONDARY_XY_ORIGIN: 368734.08000 5088576.94600
NATION: US
NATION: "SCIENCE
STATE: MT
NW_QUAD_CORNER_XY: 369186.51900 5088487.81600
NE_QUAD_CORNER_XY: 374031.42100 5088387.14900
SE_QUAD_CORNERY_XY: 373889.93800 5081443.16900
SW_QUAD_CORNER_XY: 369039.59200 5081543.84300
SECONDARY_NW_QUAD_XY: 369182.57800 5088269.92900
SECONDARY_NE_QUAD_XY: 374027.62600 5088169.25900
SECONDARY_SE_QUAD_XY: 373886.14400 5081225.32200
SECONDARY_SW_QUAD_XY: 369035.65100 5081325.99900
RMSE_XY: 1.60000
IMAGE_SOURCE: BLACK AND WHITE FILM
SOURCE_IMAGE_ID: NAPP 8382 042
SOURCE_IMAGE_DATE: 1995 08 01
SOURCE_IMAGE_ID: NAPP 8382 041
SOURCE_IMAGE_DATE: 1995 08 01
SOURCE_IMAGE_ID: NAPP 8382 081
SOURCE_IMAGE_DATE: 1995 08 01
SOURCE_DEM_DATE: 1956 00 00
AGENCY: WESTERN MAPPING CENTER (WMC)
PRODUCER: UNDEFINED
PRODUCTION_SYSTEM: GIS/MAGIC
COMPRESSION: UNDEFINED
STANDARD_VERSION: 1996 12
METADATA_DATE: 2000 05 29
DATA_FILE_SIZE: 43342610
BYTE_COUNT: 5662
