FILENAME: O4511202.NWS.1076785.tif
QUADRANGLE_NAME: BURNT MOUNTAIN
QUADRANT: NW
WEST_LONGITUDE: -112 52 30.00000
EAST_LONGITUDE: -112 48 45.00000
NORTH_LATITUDE: 46 0 0.00000
SOUTH_LATITUDE: 45 56 15.00000
PRODUCTION_DATE: 2000 3 24
RASTER_ORDER: LEFT_RIGHT/TOP_BOTTOM
BAND_ORGANIZATION: SINGLE FILE
BAND_CONTENT: BLACK&WHITE
BAND_CONTENT: UNDEFINED
BAND_CONTENT: UNDEFINED
BITS_PER_PIXEL: 8
SAMPLES_AND_LINES: 5673 7666
HORIZONTAL_DATUM: NAD83
HORIZONTAL_COORDINATE_SYSTEM: UTM
COORDINATE_ZONE: 12
HORIZONTAL_UNITS: METERS
HORIZONTAL_RESOLUTION: 1.00000
SECONDARY_HORIZONTAL_DATUM: NAD27
XY_ORIGIN: 354283.00000 5096057.00000
SECONDARY_XY_ORIGIN: 354346.29300 5095845.81200
NATION: US
NATION: "SCIENCE
STATE: MT
NW_QUAD_CORNER_XY: 354815.28000 5095756.64200
NE_QUAD_CORNER_XY: 359654.71500 5095644.58000
SE_QUAD_CORNERY_XY: 359496.72900 5088700.55200
SW_QUAD_CORNER_XY: 354651.84300 5088812.62200
SECONDARY_NW_QUAD_XY: 354810.90000 5095538.72200
SECONDARY_NE_QUAD_XY: 359650.48100 5095426.65700
SECONDARY_SE_QUAD_XY: 359492.49600 5088482.67100
SECONDARY_SW_QUAD_XY: 354647.46300 5088594.74500
RMSE_XY: 3.30000
IMAGE_SOURCE: BLACK AND WHITE FILM
SOURCE_IMAGE_ID: NAPP 9485 216
SOURCE_IMAGE_DATE: 1995 08 20
SOURCE_IMAGE_ID: NAPP 9485 215
SOURCE_IMAGE_DATE: 1995 08 20
SOURCE_IMAGE_ID: NAPP 9485 217
SOURCE_IMAGE_DATE: 1995 08 20
SOURCE_DEM_DATE: 1956 00 00
AGENCY: WESTERN MAPPING CENTER (WMC)
PRODUCER: UNDEFINED
PRODUCTION_SYSTEM: GIS/MAGIC
COMPRESSION: UNDEFINED
STANDARD_VERSION: 1996 12
METADATA_DATE: 2000 05 29
DATA_FILE_SIZE: 43494891
BYTE_COUNT: 5673
