FILENAME: O4511202.SES.1076786.tif
QUADRANGLE_NAME: BURNT MOUNTAIN
QUADRANT: SE
WEST_LONGITUDE: -112 48 45.00000
EAST_LONGITUDE: -112 45 0.00000
NORTH_LATITUDE: 45 56 15.00000
SOUTH_LATITUDE: 45 52 30.00000
PRODUCTION_DATE: 2000 3 24
RASTER_ORDER: LEFT_RIGHT/TOP_BOTTOM
BAND_ORGANIZATION: SINGLE FILE
BAND_CONTENT: BLACK&WHITE
BAND_CONTENT: UNDEFINED
BAND_CONTENT: UNDEFINED
BITS_PER_PIXEL: 8
SAMPLES_AND_LINES: 5673 7662
HORIZONTAL_DATUM: NAD83
HORIZONTAL_COORDINATE_SYSTEM: UTM
COORDINATE_ZONE: 12
HORIZONTAL_UNITS: METERS
HORIZONTAL_RESOLUTION: 1.00000
SECONDARY_HORIZONTAL_DATUM: NAD27
XY_ORIGIN: 358970.00000 5089001.00000
SECONDARY_XY_ORIGIN: 359033.22600 5088789.87800
NATION: US
NATION: "SCIENCE
STATE: MT
NW_QUAD_CORNER_XY: 359496.72900 5088700.55200
NE_QUAD_CORNER_XY: 364341.62200 5088592.28400
SE_QUAD_CORNERY_XY: 364189.24900 5081648.31700
SW_QUAD_CORNER_XY: 359338.91200 5081756.59300
SECONDARY_NW_QUAD_XY: 359492.49600 5088482.67100
SECONDARY_NE_QUAD_XY: 364337.53400 5088374.39900
SECONDARY_SE_QUAD_XY: 364185.16300 5081430.47700
SECONDARY_SW_QUAD_XY: 359334.68000 5081538.75600
RMSE_XY: 3.00000
IMAGE_SOURCE: BLACK AND WHITE FILM
SOURCE_IMAGE_ID: NAPP 9483 139
SOURCE_IMAGE_DATE: 1995 08 14
SOURCE_IMAGE_ID: NAPP 9483 140
SOURCE_IMAGE_DATE: 1995 08 14
SOURCE_DEM_DATE: 1956 00 00
AGENCY: WESTERN MAPPING CENTER (WMC)
PRODUCER: UNDEFINED
PRODUCTION_SYSTEM: GIS/MAGIC
COMPRESSION: UNDEFINED
STANDARD_VERSION: 1996 12
METADATA_DATE: 2000 05 29
DATA_FILE_SIZE: 43472199
BYTE_COUNT: 5673
