FILENAME: O4511201.SES.1076774.tif
QUADRANGLE_NAME: DICKIE PEAK
QUADRANT: SE
WEST_LONGITUDE: -112 56 15.00000
EAST_LONGITUDE: -112 52 30.00000
NORTH_LATITUDE: 45 56 15.00000
SOUTH_LATITUDE: 45 52 30.00000
PRODUCTION_DATE: 2000 4 4
RASTER_ORDER: LEFT_RIGHT/TOP_BOTTOM
BAND_ORGANIZATION: SINGLE FILE
BAND_CONTENT: BLACK&WHITE
BAND_CONTENT: UNDEFINED
BAND_CONTENT: UNDEFINED
BITS_PER_PIXEL: 8
SAMPLES_AND_LINES: 5684 7670
HORIZONTAL_DATUM: NAD83
HORIZONTAL_COORDINATE_SYSTEM: UTM
COORDINATE_ZONE: 12
HORIZONTAL_UNITS: METERS
HORIZONTAL_RESOLUTION: 1.00000
SECONDARY_HORIZONTAL_DATUM: NAD27
XY_ORIGIN: 349269.00000 5089229.00000
SECONDARY_XY_ORIGIN: 349332.33300 5089017.79000
NATION: US
NATION: "SCIENCE
STATE: MT
NW_QUAD_CORNER_XY: 349806.96100 5088928.49400
NE_QUAD_CORNER_XY: 354651.84300 5088812.62200
SE_QUAD_CORNERY_XY: 354488.58000 5081868.67100
SW_QUAD_CORNER_XY: 349638.25200 5081984.55000
SECONDARY_NW_QUAD_XY: 349802.43600 5088710.62000
SECONDARY_NE_QUAD_XY: 354647.46300 5088594.74500
SECONDARY_SE_QUAD_XY: 354484.20100 5081650.83700
SECONDARY_SW_QUAD_XY: 349633.72800 5081766.72000
RMSE_XY: 2.00000
IMAGE_SOURCE: BLACK AND WHITE FILM
SOURCE_IMAGE_ID: NAPP 9483 146
SOURCE_IMAGE_DATE: 1995 08 14
SOURCE_IMAGE_ID: NAPP 9485 114
SOURCE_IMAGE_DATE: 1995 08 20
SOURCE_IMAGE_ID: NAPP 9485 213
SOURCE_IMAGE_DATE: 1995 08 20
SOURCE_DEM_DATE: 1956 00 00
AGENCY: WESTERN MAPPING CENTER (WMC)
PRODUCER: UNDEFINED
PRODUCTION_SYSTEM: GIS/MAGIC
COMPRESSION: UNDEFINED
STANDARD_VERSION: 1996 12
METADATA_DATE: 2000 05 29
DATA_FILE_SIZE: 43601964
BYTE_COUNT: 5684
