FILENAME: O4511201.SWS.1076775.tif
QUADRANGLE_NAME: DICKIE PEAK
QUADRANT: SW
WEST_LONGITUDE: -113 0 0.00000
EAST_LONGITUDE: -112 56 15.00000
NORTH_LATITUDE: 45 56 15.00000
SOUTH_LATITUDE: 45 52 30.00000
PRODUCTION_DATE: 2000 4 4
RASTER_ORDER: LEFT_RIGHT/TOP_BOTTOM
BAND_ORGANIZATION: SINGLE FILE
BAND_CONTENT: BLACK&WHITE
BAND_CONTENT: UNDEFINED
BAND_CONTENT: UNDEFINED
BITS_PER_PIXEL: 8
SAMPLES_AND_LINES: 5690 7674
HORIZONTAL_DATUM: NAD83
HORIZONTAL_COORDINATE_SYSTEM: UTM
COORDINATE_ZONE: 12
HORIZONTAL_UNITS: METERS
HORIZONTAL_RESOLUTION: 1.00000
SECONDARY_HORIZONTAL_DATUM: NAD27
XY_ORIGIN: 344418.00000 5089349.00000
SECONDARY_XY_ORIGIN: 344481.38600 5089137.74600
NATION: US
NATION: "SCIENCE
STATE: MT
NW_QUAD_CORNER_XY: 344962.08600 5089048.16800
NE_QUAD_CORNER_XY: 349806.96100 5088928.49400
SE_QUAD_CORNERY_XY: 349638.25200 5081984.55000
SW_QUAD_CORNER_XY: 344787.93000 5082104.23200
SECONDARY_NW_QUAD_XY: 344957.41400 5088830.29700
SECONDARY_NE_QUAD_XY: 349802.43600 5088710.62000
SECONDARY_SE_QUAD_XY: 349633.72800 5081766.72000
SECONDARY_SW_QUAD_XY: 344783.26000 5081886.40500
RMSE_XY: 1.50000
IMAGE_SOURCE: BLACK AND WHITE FILM
SOURCE_IMAGE_ID: NAPP 9485 115
SOURCE_IMAGE_DATE: 1995 08 20
SOURCE_IMAGE_ID: NAPP 8402 022
SOURCE_IMAGE_DATE: 1995 09 02
SOURCE_IMAGE_ID: NAPP 9485 116
SOURCE_IMAGE_DATE: 1995 08 20
SOURCE_IMAGE_ID: NAPP 9485 114
SOURCE_IMAGE_DATE: 1995 08 20
SOURCE_DEM_DATE: 1956 00 00
AGENCY: WESTERN MAPPING CENTER (WMC)
PRODUCER: UNDEFINED
PRODUCTION_SYSTEM: GIS/MAGIC
COMPRESSION: UNDEFINED
STANDARD_VERSION: 1996 12
METADATA_DATE: 2000 05 29
DATA_FILE_SIZE: 43670750
BYTE_COUNT: 5690
