FILENAME: O4511430.NES.1068316.tif
QUADRANGLE_NAME: ALTA
QUADRANT: NE
WEST_LONGITUDE: -114 18 45.00000
EAST_LONGITUDE: -114 15 0.00000
NORTH_LATITUDE: 45 37 30.00000
SOUTH_LATITUDE: 45 33 45.00000
PRODUCTION_DATE: 2000 3 13
RASTER_ORDER: LEFT_RIGHT/TOP_BOTTOM
BAND_ORGANIZATION: SINGLE FILE
BAND_CONTENT: BLACK&WHITE
BAND_CONTENT: UNDEFINED
BAND_CONTENT: UNDEFINED
BITS_PER_PIXEL: 8
SAMPLES_AND_LINES: 5785 7724
HORIZONTAL_DATUM: NAD83
HORIZONTAL_COORDINATE_SYSTEM: UTM
COORDINATE_ZONE: 11
HORIZONTAL_UNITS: METERS
HORIZONTAL_RESOLUTION: 1.00000
SECONDARY_HORIZONTAL_DATUM: NAD27
XY_ORIGIN: 709126.00000 5056363.00000
SECONDARY_XY_ORIGIN: 709203.64200 5056156.99300
NATION: US
NATION: "SCIENCE
STATE: MT
NW_QUAD_CORNER_XY: 709499.09400 5055897.03100
NE_QUAD_CORNER_XY: 714371.08900 5056062.39900
SE_QUAD_CORNERY_XY: 714609.35600 5049118.87400
SW_QUAD_CORNER_XY: 709731.93800 5048953.49900
SECONDARY_NW_QUAD_XY: 709505.36400 5055679.43200
SECONDARY_NE_QUAD_XY: 714377.50400 5055844.80500
SECONDARY_SE_QUAD_XY: 714615.77000 5048901.32800
SECONDARY_SW_QUAD_XY: 709738.20700 5048735.94700
RMSE_XY: 1.50000
IMAGE_SOURCE: BLACK AND WHITE FILM
SOURCE_IMAGE_ID: NAPP 8407 148
SOURCE_IMAGE_DATE: 1995 08 19
SOURCE_DEM_DATE: 1985 00 00
AGENCY: WESTERN MAPPING CENTER (WMC)
PRODUCER: UNDEFINED
PRODUCTION_SYSTEM: GIS/MAGIC
COMPRESSION: UNDEFINED
STANDARD_VERSION: 1996 12
METADATA_DATE: 2000 04 20
DATA_FILE_SIZE: 44689125
BYTE_COUNT: 5785
