FILENAME: O4511430.SES.1068318.tif
QUADRANGLE_NAME: ALTA
QUADRANT: SE
WEST_LONGITUDE: -114 18 45.00000
EAST_LONGITUDE: -114 15 0.00000
NORTH_LATITUDE: 45 33 45.00000
SOUTH_LATITUDE: 45 30 0.00000
PRODUCTION_DATE: 2000 3 13
RASTER_ORDER: LEFT_RIGHT/TOP_BOTTOM
BAND_ORGANIZATION: SINGLE FILE
BAND_CONTENT: BLACK&WHITE
BAND_CONTENT: UNDEFINED
BAND_CONTENT: UNDEFINED
BITS_PER_PIXEL: 8
SAMPLES_AND_LINES: 5790 7723
HORIZONTAL_DATUM: NAD83
HORIZONTAL_COORDINATE_SYSTEM: UTM
COORDINATE_ZONE: 11
HORIZONTAL_UNITS: METERS
HORIZONTAL_RESOLUTION: 1.00000
SECONDARY_HORIZONTAL_DATUM: NAD27
XY_ORIGIN: 709359.00000 5049419.00000
SECONDARY_XY_ORIGIN: 709436.68400 5049213.08000
NATION: US
NATION: "SCIENCE
STATE: MT
STATE: ID
NW_QUAD_CORNER_XY: 709731.93800 5048953.49900
NE_QUAD_CORNER_XY: 714609.35600 5049118.87400
SE_QUAD_CORNERY_XY: 714847.36700 5042175.40800
SW_QUAD_CORNER_XY: 709964.53200 5042010.02600
SECONDARY_NW_QUAD_XY: 709738.20700 5048735.94700
SECONDARY_NE_QUAD_XY: 714615.77000 5048901.32800
SECONDARY_SE_QUAD_XY: 714853.77900 5041957.90900
SECONDARY_SW_QUAD_XY: 709970.79900 5041792.52200
RMSE_XY: 1.90000
IMAGE_SOURCE: BLACK AND WHITE FILM
SOURCE_IMAGE_ID: NAPP 8407 146
SOURCE_IMAGE_DATE: 1995 08 19
SOURCE_IMAGE_ID: NAPP 8407 022
SOURCE_IMAGE_DATE: 1995 08 19
SOURCE_IMAGE_ID: NAPP 8407 145
SOURCE_IMAGE_DATE: 1995 08 19
SOURCE_IMAGE_ID: NAPP 8407 147
SOURCE_IMAGE_DATE: 1995 08 19
SOURCE_DEM_DATE: 1985 00 00
AGENCY: WESTERN MAPPING CENTER (WMC)
PRODUCER: UNDEFINED
PRODUCTION_SYSTEM: GIS/MAGIC
COMPRESSION: UNDEFINED
STANDARD_VERSION: 1996 12
METADATA_DATE: 2000 04 20
DATA_FILE_SIZE: 44721960
BYTE_COUNT: 5790
