BEGIN_USGS_DOQ_HEADER *
QUADRANGLE_NAME "HORSE CREEK PASS" *
QUADRANT NE *
WEST_LONGITUDE -114 26 15.000 *
EAST_LONGITUDE -114 22 30.000 *
NORTH_LATITUDE 45 37 30.000 *
SOUTH_LATITUDE 45 33 45.000 *
PRODUCTION_DATE 2002 10 16 *
RASTER_ORDER LEFT_RIGHT/TOP_BOTTOM *
BAND_ORGANIZATION "SINGLE FILE" *
BAND_CONTENT BLACK&WHITE *
BITS_PER_PIXEL 8 *
SAMPLES_AND_LINES 5771 7713 *
HORIZONTAL_DATUM NAD83 *
HORIZONTAL_COORDINATE_SYSTEM UTM *
COORDINATE_ZONE 11 *
HORIZONTAL_UNITS METERS *
HORIZONTAL_RESOLUTION 1.0 *
SECONDARY_HORIZONTAL_DATUM NAD27 *
XY_ORIGIN 699383.408 5056035.470 *
SECONDARY_XY_ORIGIN 699461.066 5055829.422 *
NATION US *
STATE MT *
NW_QUAD_CORNER_XY 699755.089 5055577.715 *
NE_QUAD_CORNER_XY 704627.094 5055735.470 *
SE_QUAD_CORNER_XY 704854.516 5048791.930 *
SW_QUAD_CORNER_XY 699977.089 5048634.169 *
SECONDARY_NW_QUAD_XY 699761.069 5055360.108 *
SECONDARY_NE_QUAD_XY 704633.220 5055517.867 *
SECONDARY_SE_QUAD_XY 704860.641 5048574.375 *
SECONDARY_SW_QUAD_XY 699983.068 5048416.609 *
RMSE_XY 2.03 *
IMAGE_SOURCE "BLACK AND WHITE FILM" *
SOURCE_IMAGE_ID "NAPP 10653 107" *
SOURCE_IMAGE_DATE 1998 9 15 *
SOURCE_IMAGE_ID "NAPP 10653 108" *
SOURCE_IMAGE_DATE 1998 9 15 *
SOURCE_IMAGE_ID "NAPP 10653 106" *
SOURCE_IMAGE_DATE 1998 9 15 *
SOURCE_IMAGE_ID "NAPP 10653 31" *
SOURCE_IMAGE_DATE 1998 9 15 *
SOURCE_IMAGE_ID "NAPP 10653 32" *
SOURCE_IMAGE_DATE 1998 9 15 *
SOURCE_IMAGE_ID "NAPP 10653 33" *
SOURCE_IMAGE_DATE 1998 9 15 *
SOURCE_IMAGE_ID "NAPP 12411 141" *
SOURCE_IMAGE_DATE 2000 9 24 *
SOURCE_IMAGE_ID "NAPP 12411 142" *
SOURCE_IMAGE_DATE 2000 9 24 *
SOURCE_IMAGE_ID "NAPP 12411 143" *
SOURCE_IMAGE_DATE 2000 9 24 *
SOURCE_DEM_DATE 2002 1 1 *
AGENCY "WESTERN MAPPING CENTER (WMC)" *
PRODUCER "USDA FS GEOSPATIAL SERVICE AND TECHNOLOGY CENTER" *
PRODUCTION_SYSTEM "ORBIT OR_RECTIFY V.5.2" *
STANDARD_VERSION 1996 12 *
METADATA_DATE 2002 11 13 *
DATA_FILE_SIZE 44517494 *
BYTE_COUNT 5771 *
