BEGIN_USGS_DOQ_HEADER *
QUADRANGLE_NAME "HORSE CREEK PASS" *
QUADRANT NW *
WEST_LONGITUDE -114 30 0.000 *
EAST_LONGITUDE -114 26 15.000 *
NORTH_LATITUDE 45 37 30.000 *
SOUTH_LATITUDE 45 33 45.000 *
PRODUCTION_DATE 2002 10 16 *
RASTER_ORDER LEFT_RIGHT/TOP_BOTTOM *
BAND_ORGANIZATION "SINGLE FILE" *
BAND_CONTENT BLACK&WHITE *
BITS_PER_PIXEL 8 *
SAMPLES_AND_LINES 5766 7709 *
HORIZONTAL_DATUM NAD83 *
HORIZONTAL_COORDINATE_SYSTEM UTM *
COORDINATE_ZONE 11 *
HORIZONTAL_UNITS METERS *
HORIZONTAL_RESOLUTION 1.0 *
SECONDARY_HORIZONTAL_DATUM NAD27 *
XY_ORIGIN 694511.244 5055877.715 *
SECONDARY_XY_ORIGIN 694588.910 5055671.644 *
NATION US *
STATE MT *
STATE ID *
NW_QUAD_CORNER_XY 694883.079 5055423.767 *
NE_QUAD_CORNER_XY 699755.089 5055577.715 *
SE_QUAD_CORNER_XY 699977.089 5048634.169 *
SW_QUAD_CORNER_XY 695099.657 5048480.213 *
SECONDARY_NW_QUAD_XY 694888.913 5055206.154 *
SECONDARY_NE_QUAD_XY 699761.069 5055360.108 *
SECONDARY_SE_QUAD_XY 699983.068 5048416.609 *
SECONDARY_SW_QUAD_XY 695105.490 5048262.648 *
RMSE_XY 2.03 *
IMAGE_SOURCE "BLACK AND WHITE FILM" *
SOURCE_IMAGE_ID "NAPP 10653 32" *
SOURCE_IMAGE_DATE 1998 9 15 *
SOURCE_IMAGE_ID "NAPP 10653 31" *
SOURCE_IMAGE_DATE 1998 9 15 *
SOURCE_IMAGE_ID "NAPP 10653 33" *
SOURCE_IMAGE_DATE 1998 9 15 *
SOURCE_IMAGE_ID "NAPP 10652 186" *
SOURCE_IMAGE_DATE 1998 9 15 *
SOURCE_IMAGE_ID "NAPP 10652 187" *
SOURCE_IMAGE_DATE 1998 9 15 *
SOURCE_IMAGE_ID "NAPP 10652 188" *
SOURCE_IMAGE_DATE 1998 9 15 *
SOURCE_IMAGE_ID "NAPP 10653 108" *
SOURCE_IMAGE_DATE 1998 9 15 *
SOURCE_IMAGE_ID "NAPP 10653 107" *
SOURCE_IMAGE_DATE 1998 9 15 *
SOURCE_IMAGE_ID "NAPP 10653 106" *
SOURCE_IMAGE_DATE 1998 9 15 *
SOURCE_DEM_DATE 2002 1 1 *
AGENCY "WESTERN MAPPING CENTER (WMC)" *
PRODUCER "USDA FS GEOSPATIAL SERVICE AND TECHNOLOGY CENTER" *
PRODUCTION_SYSTEM "ORBIT OR_RECTIFY V.5.2" *
STANDARD_VERSION 1996 12 *
METADATA_DATE 2002 11 13 *
DATA_FILE_SIZE 44455860 *
BYTE_COUNT 5766 *
