BEGIN_USGS_DOQ_HEADER *
QUADRANGLE_NAME "BLUE JOINT" *
QUADRANT SW *
WEST_LONGITUDE -114 37 30.000 *
EAST_LONGITUDE -114 33 45.000 *
NORTH_LATITUDE 45 33 45.000 *
SOUTH_LATITUDE 45 30 0.000 *
PRODUCTION_DATE 2002 10 16 *
RASTER_ORDER LEFT_RIGHT/TOP_BOTTOM *
BAND_ORGANIZATION "SINGLE FILE" *
BAND_CONTENT BLACK&WHITE *
BITS_PER_PIXEL 8 *
SAMPLES_AND_LINES 5761 7701 *
HORIZONTAL_DATUM NAD83 *
HORIZONTAL_COORDINATE_SYSTEM UTM *
COORDINATE_ZONE 11 *
HORIZONTAL_UNITS METERS *
HORIZONTAL_RESOLUTION 1.0 *
SECONDARY_HORIZONTAL_DATUM NAD27 *
XY_ORIGIN 684972.573 5048630.064 *
SECONDARY_XY_ORIGIN 685050.320 5048423.998 *
NATION US *
STATE ID *
STATE MT *
NW_QUAD_CORNER_XY 685344.781 5048183.720 *
NE_QUAD_CORNER_XY 690222.221 5048330.064 *
SE_QUAD_CORNER_XY 690433.151 5041386.567 *
SW_QUAD_CORNER_XY 685550.296 5041240.218 *
SECONDARY_NW_QUAD_XY 685350.322 5047966.146 *
SECONDARY_NE_QUAD_XY 690227.908 5048112.494 *
SECONDARY_SE_QUAD_XY 690438.837 5041169.045 *
SECONDARY_SW_QUAD_XY 685555.836 5041022.692 *
RMSE_XY 2.03 *
IMAGE_SOURCE "BLACK AND WHITE FILM" *
SOURCE_IMAGE_ID "NAPP 10652 264" *
SOURCE_IMAGE_DATE 1998 9 15 *
SOURCE_IMAGE_ID "NAPP 10652 265" *
SOURCE_IMAGE_DATE 1998 9 15 *
SOURCE_IMAGE_ID "NAPP 10652 263" *
SOURCE_IMAGE_DATE 1998 9 15 *
SOURCE_IMAGE_ID "NAPP 10654 21" *
SOURCE_IMAGE_DATE 1998 9 15 *
SOURCE_IMAGE_ID "NAPP 10654 22" *
SOURCE_IMAGE_DATE 1998 9 15 *
SOURCE_IMAGE_ID "NAPP 10654 23" *
SOURCE_IMAGE_DATE 1998 9 15 *
SOURCE_IMAGE_ID "NAPP 10652 184" *
SOURCE_IMAGE_DATE 1998 9 15 *
SOURCE_IMAGE_ID "NAPP 10652 185" *
SOURCE_IMAGE_DATE 1998 9 15 *
SOURCE_IMAGE_ID "NAPP 10652 186" *
SOURCE_IMAGE_DATE 1998 9 15 *
SOURCE_DEM_DATE 2002 1 1 *
AGENCY "WESTERN MAPPING CENTER (WMC)" *
PRODUCER "USDA FS GEOSPATIAL SERVICE AND TECHNOLOGY CENTER" *
PRODUCTION_SYSTEM "ORBIT OR_RECTIFY V.5.2" *
STANDARD_VERSION 1996 12 *
METADATA_DATE 2002 11 13 *
DATA_FILE_SIZE 44371222 *
BYTE_COUNT 5761 *
