FILENAME: O4511423.NWS.1069705.tif
QUADRANGLE_NAME: PIQUETT MOUNTAIN
QUADRANT: NW
WEST_LONGITUDE: -114 15 0.00000
EAST_LONGITUDE: -114 11 15.00000
NORTH_LATITUDE: 45 45 0.00000
SOUTH_LATITUDE: 45 41 15.00000
PRODUCTION_DATE: 2000 3 6
RASTER_ORDER: LEFT_RIGHT/TOP_BOTTOM
BAND_ORGANIZATION: SINGLE FILE
BAND_CONTENT: BLACK&WHITE
BAND_CONTENT: UNDEFINED
BAND_CONTENT: UNDEFINED
BITS_PER_PIXEL: 8
SAMPLES_AND_LINES: 5780 7727
HORIZONTAL_DATUM: NAD83
HORIZONTAL_COORDINATE_SYSTEM: UTM
COORDINATE_ZONE: 11
HORIZONTAL_UNITS: METERS
HORIZONTAL_RESOLUTION: 1.00000
SECONDARY_HORIZONTAL_DATUM: NAD27
XY_ORIGIN: 713521.00000 5070419.00000
SECONDARY_XY_ORIGIN: 713598.55900 5070212.84900
NATION: US
NATION: "SCIENCE
STATE: MT
NW_QUAD_CORNER_XY: 713893.78500 5069949.62600
NE_QUAD_CORNER_XY: 718754.91000 5070118.78400
SE_QUAD_CORNERY_XY: 718999.12500 5063175.15100
SW_QUAD_CORNER_XY: 714132.56500 5063005.98300
SECONDARY_NW_QUAD_XY: 713900.20400 5069731.94000
SECONDARY_NE_QUAD_XY: 718761.47400 5069901.10300
SECONDARY_SE_QUAD_XY: 719005.68800 5062957.51500
SECONDARY_SW_QUAD_XY: 714138.98200 5062788.34300
RMSE_XY: 1.90000
IMAGE_SOURCE: BLACK AND WHITE FILM
SOURCE_IMAGE_ID: NAPP 8406 109
SOURCE_IMAGE_DATE: 1995 07 31
SOURCE_IMAGE_ID: NAPP 8406 108
SOURCE_IMAGE_DATE: 1995 07 31
SOURCE_IMAGE_ID: NAPP 8406 110
SOURCE_IMAGE_DATE: 1995 07 31
SOURCE_IMAGE_ID: NAPP 8406 094
SOURCE_IMAGE_DATE: 1995 07 31
SOURCE_IMAGE_ID: NAPP 8406 093
SOURCE_IMAGE_DATE: 1995 07 31
SOURCE_DEM_DATE: 1993 00 00
AGENCY: WESTERN MAPPING CENTER (WMC)
PRODUCER: UNDEFINED
PRODUCTION_SYSTEM: GIS/MAGIC
COMPRESSION: UNDEFINED
STANDARD_VERSION: 1996 12
METADATA_DATE: 2000 04 25
DATA_FILE_SIZE: 44667840
BYTE_COUNT: 5780
