FILENAME: O4511422.NWS.1068312.tif
QUADRANGLE_NAME: PAINTED ROCKS LAKE
QUADRANT: NW
WEST_LONGITUDE: -114 22 30.00000
EAST_LONGITUDE: -114 18 45.00000
NORTH_LATITUDE: 45 45 0.00000
SOUTH_LATITUDE: 45 41 15.00000
PRODUCTION_DATE: 2000 3 13
RASTER_ORDER: LEFT_RIGHT/TOP_BOTTOM
BAND_ORGANIZATION: SINGLE FILE
BAND_CONTENT: BLACK&WHITE
BAND_CONTENT: UNDEFINED
BAND_CONTENT: UNDEFINED
BITS_PER_PIXEL: 8
SAMPLES_AND_LINES: 5768 7720
HORIZONTAL_DATUM: NAD83
HORIZONTAL_COORDINATE_SYSTEM: UTM
COORDINATE_ZONE: 11
HORIZONTAL_UNITS: METERS
HORIZONTAL_RESOLUTION: 1.00000
SECONDARY_HORIZONTAL_DATUM: NAD27
XY_ORIGIN: 703799.00000 5070085.00000
SECONDARY_XY_ORIGIN: 703876.55600 5069878.79500
NATION: US
NATION: "SCIENCE
STATE: MT
NW_QUAD_CORNER_XY: 704171.51600 5069622.73000
NE_QUAD_CORNER_XY: 709032.65400 5069784.27500
SE_QUAD_CORNERY_XY: 709265.99900 5062840.62300
SW_QUAD_CORNER_XY: 704399.42700 5062679.07000
SECONDARY_NW_QUAD_XY: 704177.64300 5069405.03400
SECONDARY_NE_QUAD_XY: 709038.92700 5069566.58400
SECONDARY_SE_QUAD_XY: 709272.27000 5062622.97800
SECONDARY_SW_QUAD_XY: 704405.55300 5062461.41900
RMSE_XY: 2.90000
IMAGE_SOURCE: BLACK AND WHITE FILM
SOURCE_IMAGE_ID: NAPP 8407 028
SOURCE_IMAGE_DATE: 1995 08 19
SOURCE_IMAGE_ID: NAPP 8407 027
SOURCE_IMAGE_DATE: 1995 08 19
SOURCE_IMAGE_ID: NAPP 8407 029
SOURCE_IMAGE_DATE: 1995 08 19
SOURCE_DEM_DATE: 1993 00 00
AGENCY: WESTERN MAPPING CENTER (WMC)
PRODUCER: UNDEFINED
PRODUCTION_SYSTEM: GIS/MAGIC
COMPRESSION: UNDEFINED
STANDARD_VERSION: 1996 12
METADATA_DATE: 2000 04 20
DATA_FILE_SIZE: 44534728
BYTE_COUNT: 5768
