BEGIN_USGS_DOQ_HEADER *
QUADRANGLE_NAME "BARE CONE" *
QUADRANT SE *
WEST_LONGITUDE -114 26 15.000 *
EAST_LONGITUDE -114 22 30.000 *
NORTH_LATITUDE 45 41 15.000 *
SOUTH_LATITUDE 45 37 30.000 *
PRODUCTION_DATE 2003 3 25 *
RASTER_ORDER LEFT_RIGHT/TOP_BOTTOM *
BAND_ORGANIZATION "SINGLE FILE" *
BAND_CONTENT BLACK&WHITE *
BITS_PER_PIXEL 8 *
SAMPLES_AND_LINES 5766 7708 *
HORIZONTAL_DATUM NAD83 *
HORIZONTAL_COORDINATE_SYSTEM UTM *
COORDINATE_ZONE 11 *
HORIZONTAL_UNITS METERS *
HORIZONTAL_RESOLUTION 1.0 *
SECONDARY_HORIZONTAL_DATUM NAD27 *
XY_ORIGIN 699160.630 5062985.900 *
SECONDARY_XY_ORIGIN 699238.236 5062779.760 *
NATION US *
STATE MT *
NW_QUAD_CORNER_XY 699532.850 5062521.323 *
NE_QUAD_CORNER_XY 704399.427 5062679.070 *
SE_QUAD_CORNER_XY 704627.094 5055735.470 *
SW_QUAD_CORNER_XY 699755.089 5055577.715 *
SECONDARY_NW_QUAD_XY 699538.832 5062303.669 *
SECONDARY_NE_QUAD_XY 704405.555 5062461.421 *
SECONDARY_SE_QUAD_XY 704633.220 5055517.867 *
SECONDARY_SW_QUAD_XY 699761.069 5055360.108 *
RMSE_XY 1.00 *
IMAGE_SOURCE "BLACK AND WHITE FILM" *
SOURCE_IMAGE_ID "NAPP 10653 105" *
SOURCE_IMAGE_DATE 1998 9 15 *
SOURCE_IMAGE_ID "NAPP 10653 106" *
SOURCE_IMAGE_DATE 1998 9 15 *
SOURCE_IMAGE_ID "NAPP 10653 104" *
SOURCE_IMAGE_DATE 1998 9 15 *
SOURCE_IMAGE_ID "NAPP 10653 33" *
SOURCE_IMAGE_DATE 1998 9 15 *
SOURCE_IMAGE_ID "NAPP 10653 34" *
SOURCE_IMAGE_DATE 1998 9 15 *
SOURCE_IMAGE_ID "NAPP 10653 35" *
SOURCE_IMAGE_DATE 1998 9 15 *
SOURCE_DEM_DATE 2003 1 1 *
AGENCY "WESTERN MAPPING CENTER (WMC)" *
PRODUCER "USDA FS GEOSPATIAL SERVICE AND TECHNOLOGY CENTER" *
PRODUCTION_SYSTEM "ORBIT OR_RECTIFY V.5.2" *
STANDARD_VERSION 1996 12 *
METADATA_DATE 2003 3 19 *
DATA_FILE_SIZE 44450094 *
BYTE_COUNT 5766 *
